BEGIN:VCALENDAR
VERSION:2.0
PRODID:-//ChamberMaster//Event Calendar 2.0//EN
METHOD:PUBLISH
X-PUBLISHED-TTL:P3D
REFRESH-INTERVAL:P3D
CALSCALE:GREGORIAN
BEGIN:VEVENT
DTSTART:20170428T170000Z
DTEND:20170428T230000Z
X-MICROSOFT-CDO-ALLDAYEVENT:FALSE
SUMMARY:Health & Wellness Fair
DESCRIPTION:HEALTH WELLNESS FAIR 2017 Laurel Place Is pleased to announce their up- coming Health & Wellness Fair Sponsored By Rexall
X-ALT-DESC;FMTTYPE=text/html:HEALTH WELLNESS FAIR 2017 Laurel Place Is pleased to announce their up- coming Health &amp\; Wellness Fair Sponsored By Rexall
LOCATION:Laurel Place (Across from Surrey Memorial Hospital) 9688-137A St.\, Surrey BC.\, V3T 4H9 604-582-6336 604-582-6336
UID:e.749.5210
SEQUENCE:3
DTSTAMP:20260422T023943Z
URL:https://business.swrbot.com/events/details/health-wellness-fair-04-28-2017-5210
END:VEVENT

END:VCALENDAR
