BEGIN:VCALENDAR
VERSION:2.0
PRODID:-//ChamberMaster//Event Calendar 2.0//EN
METHOD:PUBLISH
X-PUBLISHED-TTL:P3D
REFRESH-INTERVAL:P3D
CALSCALE:GREGORIAN
BEGIN:VEVENT
DTSTART:20140413T020000Z
DTEND:20140413T050000Z
X-MICROSOFT-CDO-ALLDAYEVENT:FALSE
SUMMARY:Hedley
DESCRIPTION:Multiplatinum Canadian pop stars and Juno Award winners\, Hedley have announced additional dates on their coast-to-coast Wild Live Tour\, including a stop at the Abbotsford Entertainment & Sports Centre on April 12.\n\nThe Wild Live tour supports the band's fifth studio album\, Wild Life and kicks off in Prince George\, BC on February 14. The tour will be the band's most extensive Canadian tour to date with more than 30 shows across the country. Joining Hedley on the first half of the tour until March 25 will be Danny Fernandes\, JRDN and Alyssa Reid. Classified and USS will be special guests for the second leg of the tour starting in Toronto on March 27.\n\n \n\nTICKET PRICES: $34.50\, $49.50\, $64.50\n\nWant to upgrade with dinner prior to the show?\n\nPlease contact our Group Sales Department at groupsales@abbotsfordcentre.ca or 6047435030
X-ALT-DESC;FMTTYPE=text/html:<p class="MsoNoSpacing"><span lang="EN-US" style="font-size: 14pt\;">Multiplatinum Canadian pop stars and Juno Award winners\, Hedley have announced additional dates on their coast-to-coast Wild Live Tour\, including a stop at the Abbotsford Entertainment &amp\; Sports Centre on April 12.<o:p></o:p></span></p>\n\n<p class="MsoNoSpacing"><span lang="EN-US" style="font-size: 14pt\;">The Wild Live tour supports the band&rsquo\;s fifth studio album\, Wild Life and kicks off in Prince George\, BC on February 14. The tour will be the band&rsquo\;s most extensive Canadian tour to date with more than 30 shows across the country. Joining Hedley on the first half of the tour until March 25 will be Danny Fernandes\, JRDN and Alyssa Reid. Classified and USS will be special guests for the second leg of the tour starting in Toronto on March 27.<o:p></o:p></span></p>\n\n<p class="MsoNoSpacing"><span style="font-size:14.0pt"><o:p>&nbsp\;</o:p></span></p>\n\n<p class="MsoNoSpacing"><b><span style="font-size:14.0pt">TICKET PRICES: </span></b><b><span style="font-size: 14pt\; background-position: initial initial\; background-repeat: initial initial\;">$34.50\, $49.50\, $64.50<o:p></o:p></span></b></p>\n\n<p class="MsoNoSpacing"><span style="font-size: 14pt\; background-position: initial initial\; background-repeat: initial initial\;">Want to upgrade with dinner prior to the show?<o:p></o:p></span></p>\n\n<p class="MsoNoSpacing"><span style="font-size: 14pt\; background-position: initial initial\; background-repeat: initial initial\;">Please contact our Group Sales Department at </span><a href="mailto:groupsales@abbotsfordcentre.ca"><span style="font-size: 14pt\; background-position: initial initial\; background-repeat: initial initial\;">groupsales@abbotsfordcentre.ca</span></a><span style="font-size: 14pt\; background-position: initial initial\; background-repeat: initial initial\;"> or 6047435030<o:p></o:p></span></p>\n
LOCATION:Abbotsford Entertainment & Sports Centre 33800 King Road Abbotsford\, BC V2S 8H8
UID:e.749.2601
SEQUENCE:3
DTSTAMP:20260425T223940Z
URL:https://business.swrbot.com/events/details/hedley-04-12-2014-2601
END:VEVENT

END:VCALENDAR
