BEGIN:VCALENDAR
VERSION:2.0
PRODID:-//ChamberMaster//Event Calendar 2.0//EN
METHOD:PUBLISH
X-PUBLISHED-TTL:P3D
REFRESH-INTERVAL:P3D
CALSCALE:GREGORIAN
BEGIN:VEVENT
DTSTART:20141220T200000Z
DTEND:20141221T010000Z
X-MICROSOFT-CDO-ALLDAYEVENT:FALSE
SUMMARY:Help the Homeless
DESCRIPTION:You are invited to take part in the second Annual "Help the Homeless" Charity event\, hosted by The Times of Canada. \n\n\n\nPlease bring your gently used Jackets\, Blankets\, Shoes\, Towels\, Socks and/or toothpaste\, toothbrushes Canned food and shirts.\n\n\n\nCome\, bring\, give and make a difference in our community.\n\n\n\nThank you\n\n\n\nKind regards\,\n\n\n\nVinay Sharma\n\nThe Times of Canada
X-ALT-DESC;FMTTYPE=text/html:You are invited to take part in the second Annual &quot\;Help the Homeless&quot\; Charity event\, hosted by The Times of Canada.&nbsp\;<br />\n<br />\nPlease bring your gently used Jackets\, Blankets\, Shoes\, Towels\, Socks and/or toothpaste\, toothbrushes Canned food and shirts.<br />\n<br />\nCome\, bring\, give and make a difference in our community.<br />\n<br />\nThank you<br />\n<br />\nKind regards\,<br />\n<br />\nVinay Sharma<br />\nThe Times of Canada
LOCATION:York Centre 7928-128th st\, Surrey BC
UID:e.749.2846
SEQUENCE:3
DTSTAMP:20260425T123746Z
URL:https://business.swrbot.com/events/details/help-the-homeless-12-20-2014-2846
END:VEVENT

END:VCALENDAR
