BEGIN:VCALENDAR
VERSION:2.0
PRODID:-//ChamberMaster//Event Calendar 2.0//EN
METHOD:PUBLISH
X-PUBLISHED-TTL:P3D
REFRESH-INTERVAL:P3D
CALSCALE:GREGORIAN
BEGIN:VEVENT
DTSTART;VALUE=DATE:20140602
DTEND;VALUE=DATE:20140615
TRANSP:TRANSPARENT
X-MICROSOFT-CDO-ALLDAYEVENT:TRUE
SUMMARY:Herbal Magic Open House
DESCRIPTION:We're excited to announce that from June 2nd   14th\, we will be hosting our first Open House of the year! We will have amazing deals\, prizes and sampling happening throughout these two weeks! Come visiit us today for more details or\, simply pick up the phone and give us a call!
X-ALT-DESC;FMTTYPE=text/html:<p>We&rsquo\;re excited to announce that from June 2nd&nbsp\;&ndash\; 14th\, we will be hosting our first Open House of the year! We will have amazing deals\, prizes and sampling happening throughout these two weeks! Come visiit us today for more details or\, simply pick up the phone and give us a call!</p>\n
LOCATION:Herbal Magic 10160 152 ST
UID:e.749.2649
SEQUENCE:3
DTSTAMP:20260425T200752Z
URL:https://business.swrbot.com/events/details/herbal-magic-open-house-06-02-2014-2649
END:VEVENT

END:VCALENDAR
