BEGIN:VCALENDAR
VERSION:2.0
PRODID:-//ChamberMaster//Event Calendar 2.0//EN
METHOD:PUBLISH
X-PUBLISHED-TTL:P3D
REFRESH-INTERVAL:P3D
CALSCALE:GREGORIAN
BEGIN:VEVENT
DTSTART:20140619T230000Z
DTEND:20140620T000000Z
X-MICROSOFT-CDO-ALLDAYEVENT:FALSE
SUMMARY:How to avoid multi-million dollar Anti-Spam fines.
DESCRIPTION:Learn the do's and don'ts to ensure your business operates safely within Canada's new Anti-Spam Legislation which goes into effect July 1\, 2014. The law states that individuals can be fined up to $1\,000\,000 and companies up to 10 million dollars. In this Think60\, Studiothink will teach you how to safely market and grow your business within the confines of the new laws.
X-ALT-DESC;FMTTYPE=text/html:Learn the do&#39\;s and don&#39\;ts to ensure your business operates safely within Canada&#39\;s new Anti-Spam Legislation which goes into effect July 1\, 2014. The law states that individuals can be fined up to $1\,000\,000 and companies up to 10 million dollars. In this Think60\,&nbsp\;Studiothink&nbsp\;will teach you how to safely market and grow your business within the confines of the new laws.
LOCATION:Studiothink Idea Room\, #10-19300 Langley Bypass\, Surrey\, BC V3S 7R2
UID:e.749.2646
SEQUENCE:3
DTSTAMP:20260425T212937Z
URL:https://business.swrbot.com/events/details/how-to-avoid-multi-million-dollar-anti-spam-fines-06-19-2014-2646
END:VEVENT

END:VCALENDAR
