BEGIN:VCALENDAR
VERSION:2.0
PRODID:-//ChamberMaster//Event Calendar 2.0//EN
METHOD:PUBLISH
X-PUBLISHED-TTL:P3D
REFRESH-INTERVAL:P3D
CALSCALE:GREGORIAN
BEGIN:VEVENT
DTSTART:20140221T000000Z
DTEND:20140221T010000Z
X-MICROSOFT-CDO-ALLDAYEVENT:FALSE
SUMMARY:How to generate awesome backlinks for your website. | Think60
DESCRIPTION:Good quality backlinks (links on other sites that point back to yours) are key to optimizing your website and improving rankings in search engines. In Todd Mumford's last Think60 presentation we learned that Google penalizes your website for poor quality backlinks. But how do you make sure your backlinks are good quality? And how do you get more of them so you can move up in Google?\n\n\n\nABOUT OUR GUEST SPEAKER\, TODD MUMFORD FROM RIVERBED MARKETING\n\nTodd Mumford is a search marketer with ten years of online marketing experience under his belt with specialties in SEO\, competitive niche link building and landing page conversion. He has consulted with small\, medium and large brands including notable clients such as Telus and Disney. He is owner of Riverbed Marketing.\n\n\n\nSeats are limited so reserve your free spot today.
X-ALT-DESC;FMTTYPE=text/html:Good quality backlinks (links on other sites that point back to yours) are key to optimizing your website and improving rankings in search engines. In Todd Mumford&#39\;s last Think60 presentation we learned that Google penalizes your website for poor quality backlinks. But how do you make sure your backlinks are good quality? And how do you get more of them so you can move up in Google?<br />\n<br />\nABOUT OUR GUEST SPEAKER\, TODD MUMFORD FROM RIVERBED MARKETING<br />\nTodd Mumford is a search marketer with ten years of online marketing experience under his belt with specialties in SEO\, competitive niche link building and landing page conversion. He has consulted with small\, medium and large brands including notable clients such as Telus and Disney. He is owner of Riverbed Marketing.<br />\n<br />\nSeats are limited so reserve your free spot today.
LOCATION:Studiothink: 10-19300 Langley Bypass\, Surrey\, BC V3S 7R2
UID:e.749.2526
SEQUENCE:3
DTSTAMP:20260426T021759Z
URL:https://business.swrbot.com/events/details/how-to-generate-awesome-backlinks-for-your-website-think60-02-20-2014-2526
END:VEVENT

END:VCALENDAR
