BEGIN:VCALENDAR
VERSION:2.0
PRODID:-//ChamberMaster//Event Calendar 2.0//EN
METHOD:PUBLISH
X-PUBLISHED-TTL:P3D
REFRESH-INTERVAL:P3D
CALSCALE:GREGORIAN
BEGIN:VEVENT
DTSTART:20190928T180000Z
DTEND:20190928T210000Z
X-MICROSOFT-CDO-ALLDAYEVENT:FALSE
SUMMARY:How to Get Your Banker to Say “YES” - Business Loan Workshop for Immigrant Entrepreneurs
DESCRIPTION:How to Get Your Banker to Say "YES" - Business Loan Workshop for Immigrant Entrepreneurs Boost your chances of getting a business loan! This workshop will help you understand what bankers look for\, how they'll assess your request and what you can do to help them say yes\, even if you're a first-time business borrower.
X-ALT-DESC;FMTTYPE=text/html:How to Get Your Banker to Say &ldquo\;YES&rdquo\; - Business Loan Workshop for Immigrant Entrepreneurs Boost your chances of getting a business loan! This workshop will help you understand what bankers look for\, how they&rsquo\;ll assess your request and what you can do to help them say yes\, even if you&rsquo\;re a first-time business borrower.
LOCATION:Venue: Surrey City Centre Library (Room 401) - 10350 University Drive\, Surrey\, BC
UID:e.749.10640
SEQUENCE:3
DTSTAMP:20260420T151436Z
URL:https://business.swrbot.com/events/details/how-to-get-your-banker-to-say-yes-business-loan-workshop-for-immigrant-entrepreneurs-09-28-2019-10640
END:VEVENT

END:VCALENDAR
