BEGIN:VCALENDAR
VERSION:2.0
PRODID:-//ChamberMaster//Event Calendar 2.0//EN
METHOD:PUBLISH
X-PUBLISHED-TTL:P3D
REFRESH-INTERVAL:P3D
CALSCALE:GREGORIAN
BEGIN:VEVENT
DTSTART:20140515T230000Z
DTEND:20140516T000000Z
X-MICROSOFT-CDO-ALLDAYEVENT:FALSE
SUMMARY:How to maximize the value of your business...before you sell.
DESCRIPTION:This Think60 will demonstrate eight ways for you to utilize a Business Exit Plan to increase the sellability and value of your business. Takeaways will include understanding how a prospective purchaser will value your business and what you can do to make it more valuable to them. How to move goodwill that's tied into your personal name over to your business\, so you can maximize and recouperate as much as possible when you sell. And how to manage the emotional aspects of exiting a business\, which are just as important as the financial aspects. \n\n\n\nABOUT OUR SPEAKER\, BOB LAWRENCE FROM BREAKAWAY BUSINESS TRANSITION\n\nBob Lawrence is a Chartered Professional Accountant (CA-CPA) and Certified Exit Planning Advisor (CEPA) with 20 years of CFO/COO/CEO experience in manufacturing\, natural resource and software development industries. He utilizes his experience and training to help owners of privately-held businesses prepare and implement business exit plans. Studies show that while 50% of privately-held businesses will change hands in the next ten years\, less than half have even thought about an exit plan. Without a formal exit plan\, their businesses will be much more difficult to sell or transfer to the next generation\, and the after-tax net proceeds will be significantly reduced.\n\n\n\nSeats are limited\, so reserve your free spot today.
X-ALT-DESC;FMTTYPE=text/html:This Think60 will demonstrate eight ways for you to utilize a Business Exit Plan to increase the sellability and value of your business. Takeaways will include understanding how a prospective purchaser will value your business and what you can do to make it more valuable to them. How to move goodwill that&#39\;s tied into your personal name over to your business\, so you can maximize and recouperate as much as possible when you sell. And how to manage the emotional aspects of exiting a business\, which are just as important as the financial aspects.&nbsp\;<br />\n<br />\nABOUT OUR SPEAKER\,&nbsp\;BOB LAWRENCE&nbsp\;FROM BREAKAWAY BUSINESS TRANSITION<br />\nBob Lawrence&nbsp\;is a Chartered Professional Accountant (CA-CPA) and Certified Exit Planning Advisor (CEPA) with 20 years of CFO/COO/CEO experience in manufacturing\, natural resource and software development industries. He utilizes his experience and training to help owners of privately-held businesses prepare and implement business exit plans. Studies show that while 50% of privately-held businesses will change hands in the next ten years\, less than half have even thought about an exit plan. Without a formal exit plan\, their businesses will be much more difficult to sell or transfer to the next generation\, and the after-tax net proceeds will be significantly reduced.<br />\n<br />\nSeats are limited\, so reserve your free spot today.
LOCATION:Studiothink Idea Room\, #10 - 19300 Langley Bypass\, Surrey\, BC V3S 7R2
UID:e.749.2645
SEQUENCE:3
DTSTAMP:20260425T213208Z
URL:https://business.swrbot.com/events/details/how-to-maximize-the-value-of-your-business-before-you-sell-05-15-2014-2645
END:VEVENT

END:VCALENDAR
