BEGIN:VCALENDAR
VERSION:2.0
PRODID:-//ChamberMaster//Event Calendar 2.0//EN
METHOD:PUBLISH
X-PUBLISHED-TTL:P3D
REFRESH-INTERVAL:P3D
CALSCALE:GREGORIAN
BEGIN:VEVENT
DTSTART:20131203T163000Z
DTEND:20131203T203000Z
X-MICROSOFT-CDO-ALLDAYEVENT:FALSE
SUMMARY:How To Prepare For The Unthinkable: Active Shooter Awareness Training
DESCRIPTION:OVERVIEW\n \n\n	From elementary schools\, to malls\, government facilities and recently at Los Angeles International Airport security\, safety and emergency management professionals are reviewing their practices for responding to the threat of an "active shooter". Our half-day work shop will provide attendees an introduction to preparing\, responding and recovery from an "active shooter" incident. Participants will review the latest in best practices principles and tactics to enhance the safety of employees\, customers and the general public. Attendees will participate in the review of case studies\, interactive lectures and hands-on application and planning. \n\n	Specific workshop objectives include:\n\n	 \n\n	Preparedness \n \n\n	\n		Describe the latest "active shooter" statistics and demographics \n	\n		Discuss the issue of preparedness from a Canadian perspective \n	\n		Review the latest approaches and research in "active shooter" response \n	\n		What does being prepared mean? \n	\n		Discuss training and exercise options\n	\n		Differentiate between an "active shooter" incident and a "barricaded subject and hostage" incident \n\n\n	Response \n \n\n	\n		Review current police response and tactics\, individual responses and the use of lockdown\, shelter-in-place\, evacuate and fight back\n	\n		Discuss the role and responsibilities for on-site security and management \n	\n		Use of physical security during incidents \n	\n		Evacuation and shelter in place strategies \n\n\n	Recovery \n \n\n	\n		Discuss short- and long-term incident recovery strategies  \n	\n		Site and operational security  \n	\n		Police liaison \n	\n		Victim\, family and co-worker assistance \n	\n		Organizational roles and responsibilities \n	\n		Communication strategies \n	\n		Business continuity planning\n\n\n	 \n\n	ABOUT US \n \n\n	Lexxon Training provides transformational workshops that inspire organizational change and personal development for all levels-from the CEO to the front line worker. Our training is delivered face-to-face and hands-on\, through energetic\, interactive workshops and professional support to help your people succeed. We also offer security and safety courses to organizations and individuals. Our training division leads the industry with field expert instructors for professional certification and skills building.\n\n	 \nCoffee and snacks will be provided.
X-ALT-DESC;FMTTYPE=text/html:<p class="MsoNormal" style="margin: 0in 0in 0pt\;">\n	<font size="3"><strong><span style="color: black\; font-family: &quot\;Arial&quot\;\,&quot\;sans-serif&quot\;\;">OVERVIEW</span></strong><o:p></o:p></font></p>\n<font color="#000000" face="Times New Roman" size="3"><u5:p></u5:p> </font>\n<p class="MsoNormal" style="margin: 0in 0in 12pt\;">\n	<span style="color: black\; font-family: &quot\;Arial&quot\;\,&quot\;sans-serif&quot\;\; font-size: 10pt\;">From elementary schools\, to malls\, government facilities and recently at Los Angeles International Airport security\, safety and emergency management professionals are reviewing their practices for responding to the threat of an &quot\;active shooter&quot\;. Our half-day work shop will provide attendees an introduction to preparing\, responding and recovery from an &quot\;active shooter&quot\; incident. Participants will review the latest in best practices principles and tactics to enhance the safety of employees\, customers and the general public. Attendees will participate in the review of case studies\, interactive lectures and hands-on application and planning. <u5:p></u5:p></span><o:p></o:p></p>\n<p class="MsoNormal" style="margin: 0in 0in 0pt\;">\n	<span style="color: black\; font-family: &quot\;Arial&quot\;\,&quot\;sans-serif&quot\;\; font-size: 10pt\;">Specific workshop objectives include:<u5:p></u5:p></span><o:p></o:p></p>\n<p class="MsoNormal" style="margin: 0in 0in 0pt\;">\n	<font size="3"><font face="Times New Roman"><span style="color: black\; font-family: &quot\;Arial&quot\;\,&quot\;sans-serif&quot\;\; font-size: 10pt\;"><u5:p>&nbsp\;</u5:p></span><o:p></o:p></font></font></p>\n<p class="MsoNormal" style="margin: 0in 0in 0pt\;">\n	<strong><span style="color: rgb(246\, 80\, 88)\; font-family: &quot\;Arial&quot\;\,&quot\;sans-serif&quot\;\; font-size: 10pt\;">Preparedness</span></strong><span style="color: black\; font-family: &quot\;Arial&quot\;\,&quot\;sans-serif&quot\;\; font-size: 10pt\;"> </span><o:p></o:p></p>\n<font color="#000000" face="Times New Roman" size="3"><u5:p></u5:p> </font>\n<ul type="disc">\n	<li class="MsoNormal" style="margin: 0in 0in 0pt\; color: black\; mso-margin-top-alt: auto\; mso-margin-bottom-alt: auto\; mso-list: l0 level1 lfo1\; tab-stops: list .5in\;">\n		<span style="font-family: &quot\;Arial&quot\;\,&quot\;sans-serif&quot\;\; font-size: 10pt\; mso-fareast-font-family: &quot\;Times New Roman&quot\;\;">Describe the latest &quot\;active shooter&quot\; statistics and demographics <u5:p></u5:p></span><span style="mso-fareast-font-family: &quot\;Times New Roman&quot\;\;"><o:p></o:p></span></li>\n	<li class="MsoNormal" style="margin: 0in 0in 0pt\; color: black\; mso-margin-top-alt: auto\; mso-margin-bottom-alt: auto\; mso-list: l0 level1 lfo1\; tab-stops: list .5in\;">\n		<span style="font-family: &quot\;Arial&quot\;\,&quot\;sans-serif&quot\;\; font-size: 10pt\; mso-fareast-font-family: &quot\;Times New Roman&quot\;\;">Discuss the issue of preparedness from a Canadian perspective <u5:p></u5:p></span><span style="mso-fareast-font-family: &quot\;Times New Roman&quot\;\;"><o:p></o:p></span></li>\n	<li class="MsoNormal" style="margin: 0in 0in 0pt\; color: black\; mso-margin-top-alt: auto\; mso-margin-bottom-alt: auto\; mso-list: l0 level1 lfo1\; tab-stops: list .5in\;">\n		<span style="font-family: &quot\;Arial&quot\;\,&quot\;sans-serif&quot\;\; font-size: 10pt\; mso-fareast-font-family: &quot\;Times New Roman&quot\;\;">Review the latest approaches and research in &quot\;active shooter&quot\; response <u5:p></u5:p></span><span style="mso-fareast-font-family: &quot\;Times New Roman&quot\;\;"><o:p></o:p></span></li>\n	<li class="MsoNormal" style="margin: 0in 0in 0pt\; color: black\; mso-margin-top-alt: auto\; mso-margin-bottom-alt: auto\; mso-list: l0 level1 lfo1\; tab-stops: list .5in\;">\n		<span style="font-family: &quot\;Arial&quot\;\,&quot\;sans-serif&quot\;\; font-size: 10pt\; mso-fareast-font-family: &quot\;Times New Roman&quot\;\;">What does being prepared mean? <u5:p></u5:p></span><span style="mso-fareast-font-family: &quot\;Times New Roman&quot\;\;"><o:p></o:p></span></li>\n	<li class="MsoNormal" style="margin: 0in 0in 0pt\; color: black\; mso-margin-top-alt: auto\; mso-margin-bottom-alt: auto\; mso-list: l0 level1 lfo1\; tab-stops: list .5in\;">\n		<span style="font-family: &quot\;Arial&quot\;\,&quot\;sans-serif&quot\;\; font-size: 10pt\; mso-fareast-font-family: &quot\;Times New Roman&quot\;\;">Discuss training and exercise options<u5:p></u5:p></span><span style="mso-fareast-font-family: &quot\;Times New Roman&quot\;\;"><o:p></o:p></span></li>\n	<li class="MsoNormal" style="margin: 0in 0in 0pt\; color: black\; mso-margin-top-alt: auto\; mso-margin-bottom-alt: auto\; mso-list: l0 level1 lfo1\; tab-stops: list .5in\;">\n		<span style="font-family: &quot\;Arial&quot\;\,&quot\;sans-serif&quot\;\; font-size: 10pt\; mso-fareast-font-family: &quot\;Times New Roman&quot\;\;">Differentiate between an &quot\;active shooter&quot\; incident and a &quot\;barricaded subject and hostage&quot\; incident&nbsp\;<u5:p></u5:p></span><span style="mso-fareast-font-family: &quot\;Times New Roman&quot\;\;"><o:p></o:p></span></li>\n</ul>\n<p class="MsoNormal" style="margin: 0in 0in 0pt\;">\n	<strong><span style="color: rgb(246\, 80\, 88)\; font-family: &quot\;Arial&quot\;\,&quot\;sans-serif&quot\;\; font-size: 10pt\;">Response</span></strong><span style="color: black\; font-family: &quot\;Arial&quot\;\,&quot\;sans-serif&quot\;\; font-size: 10pt\;"> </span><o:p></o:p></p>\n<font color="#000000" face="Times New Roman" size="3"><u5:p></u5:p> </font>\n<ul type="disc">\n	<li class="MsoNormal" style="margin: 0in 0in 0pt\; color: black\; mso-margin-top-alt: auto\; mso-margin-bottom-alt: auto\; mso-list: l2 level1 lfo2\; tab-stops: list .5in\;">\n		<span style="font-family: &quot\;Arial&quot\;\,&quot\;sans-serif&quot\;\; font-size: 10pt\; mso-fareast-font-family: &quot\;Times New Roman&quot\;\;">Review current police response and tactics\,&nbsp\;individual responses and&nbsp\;the use of lockdown\, shelter-in-place\, evacuate and fight back<u5:p></u5:p></span><span style="mso-fareast-font-family: &quot\;Times New Roman&quot\;\;"><o:p></o:p></span></li>\n	<li class="MsoNormal" style="margin: 0in 0in 0pt\; color: black\; mso-margin-top-alt: auto\; mso-margin-bottom-alt: auto\; mso-list: l2 level1 lfo2\; tab-stops: list .5in\;">\n		<span style="font-family: &quot\;Arial&quot\;\,&quot\;sans-serif&quot\;\; font-size: 10pt\; mso-fareast-font-family: &quot\;Times New Roman&quot\;\;">Discuss the role and responsibilities for on-site security and management&nbsp\;<u5:p></u5:p></span><span style="mso-fareast-font-family: &quot\;Times New Roman&quot\;\;"><o:p></o:p></span></li>\n	<li class="MsoNormal" style="margin: 0in 0in 0pt\; color: black\; mso-margin-top-alt: auto\; mso-margin-bottom-alt: auto\; mso-list: l2 level1 lfo2\; tab-stops: list .5in\;">\n		<span style="font-family: &quot\;Arial&quot\;\,&quot\;sans-serif&quot\;\; font-size: 10pt\; mso-fareast-font-family: &quot\;Times New Roman&quot\;\;">Use of physical security during incidents&nbsp\;<u5:p></u5:p></span><span style="mso-fareast-font-family: &quot\;Times New Roman&quot\;\;"><o:p></o:p></span></li>\n	<li class="MsoNormal" style="margin: 0in 0in 0pt\; color: black\; mso-margin-top-alt: auto\; mso-margin-bottom-alt: auto\; mso-list: l2 level1 lfo2\; tab-stops: list .5in\;">\n		<span style="font-family: &quot\;Arial&quot\;\,&quot\;sans-serif&quot\;\; font-size: 10pt\; mso-fareast-font-family: &quot\;Times New Roman&quot\;\;">Evacuation and shelter in place strategies&nbsp\;<u5:p></u5:p></span><span style="mso-fareast-font-family: &quot\;Times New Roman&quot\;\;"><o:p></o:p></span></li>\n</ul>\n<p style="margin: 0in 0in 0pt\;">\n	<strong><span style="color: rgb(246\, 80\, 88)\; font-family: &quot\;Arial&quot\;\,&quot\;sans-serif&quot\;\; font-size: 10pt\;">Recovery&nbsp\;</span></strong><o:p></o:p></p>\n<font color="#000000" face="Times New Roman" size="3"><u5:p></u5:p> </font>\n<ul type="disc">\n	<li class="MsoNormal" style="margin: 0in 0in 0pt\; color: black\; mso-margin-top-alt: auto\; mso-margin-bottom-alt: auto\; mso-list: l1 level1 lfo3\; tab-stops: list .5in\;">\n		<span style="font-family: &quot\;Arial&quot\;\,&quot\;sans-serif&quot\;\; font-size: 10pt\; mso-fareast-font-family: &quot\;Times New Roman&quot\;\;">Discuss short- and long-term incident recovery strategies&nbsp\; <u5:p></u5:p></span><span style="mso-fareast-font-family: &quot\;Times New Roman&quot\;\;"><o:p></o:p></span></li>\n	<li class="MsoNormal" style="margin: 0in 0in 0pt\; color: black\; mso-margin-top-alt: auto\; mso-margin-bottom-alt: auto\; mso-list: l1 level1 lfo3\; tab-stops: list .5in\;">\n		<span style="font-family: &quot\;Arial&quot\;\,&quot\;sans-serif&quot\;\; font-size: 10pt\; mso-fareast-font-family: &quot\;Times New Roman&quot\;\;">Site and operational security &nbsp\;<u5:p></u5:p></span><span style="mso-fareast-font-family: &quot\;Times New Roman&quot\;\;"><o:p></o:p></span></li>\n	<li class="MsoNormal" style="margin: 0in 0in 0pt\; color: black\; mso-margin-top-alt: auto\; mso-margin-bottom-alt: auto\; mso-list: l1 level1 lfo3\; tab-stops: list .5in\;">\n		<span style="font-family: &quot\;Arial&quot\;\,&quot\;sans-serif&quot\;\; font-size: 10pt\; mso-fareast-font-family: &quot\;Times New Roman&quot\;\;">Police liaison&nbsp\;<u5:p></u5:p></span><span style="mso-fareast-font-family: &quot\;Times New Roman&quot\;\;"><o:p></o:p></span></li>\n	<li class="MsoNormal" style="margin: 0in 0in 0pt\; color: black\; mso-margin-top-alt: auto\; mso-margin-bottom-alt: auto\; mso-list: l1 level1 lfo3\; tab-stops: list .5in\;">\n		<span style="font-family: &quot\;Arial&quot\;\,&quot\;sans-serif&quot\;\; font-size: 10pt\; mso-fareast-font-family: &quot\;Times New Roman&quot\;\;">Victim\, family and co-worker assistance&nbsp\;<u5:p></u5:p></span><span style="mso-fareast-font-family: &quot\;Times New Roman&quot\;\;"><o:p></o:p></span></li>\n	<li class="MsoNormal" style="margin: 0in 0in 0pt\; color: black\; mso-margin-top-alt: auto\; mso-margin-bottom-alt: auto\; mso-list: l1 level1 lfo3\; tab-stops: list .5in\;">\n		<span style="font-family: &quot\;Arial&quot\;\,&quot\;sans-serif&quot\;\; font-size: 10pt\; mso-fareast-font-family: &quot\;Times New Roman&quot\;\;">Organizational roles and responsibilities&nbsp\;<u5:p></u5:p></span><span style="mso-fareast-font-family: &quot\;Times New Roman&quot\;\;"><o:p></o:p></span></li>\n	<li class="MsoNormal" style="margin: 0in 0in 0pt\; color: black\; mso-margin-top-alt: auto\; mso-margin-bottom-alt: auto\; mso-list: l1 level1 lfo3\; tab-stops: list .5in\;">\n		<span style="font-family: &quot\;Arial&quot\;\,&quot\;sans-serif&quot\;\; font-size: 10pt\; mso-fareast-font-family: &quot\;Times New Roman&quot\;\;">Communication strategies&nbsp\;<u5:p></u5:p></span><span style="mso-fareast-font-family: &quot\;Times New Roman&quot\;\;"><o:p></o:p></span></li>\n	<li class="MsoNormal" style="margin: 0in 0in 0pt\; color: black\; mso-margin-top-alt: auto\; mso-margin-bottom-alt: auto\; mso-list: l1 level1 lfo3\; tab-stops: list .5in\;">\n		<span style="font-family: &quot\;Arial&quot\;\,&quot\;sans-serif&quot\;\; font-size: 10pt\; mso-fareast-font-family: &quot\;Times New Roman&quot\;\;">Business continuity planning<u5:p></u5:p></span><span style="mso-fareast-font-family: &quot\;Times New Roman&quot\;\;"><o:p></o:p></span></li>\n</ul>\n<p class="MsoNormal" style="margin: 0in 0in 0pt\;">\n	<font size="3"><font face="Times New Roman"><span style="color: black\; font-family: &quot\;Arial&quot\;\,&quot\;sans-serif&quot\;\; font-size: 10pt\;"><u5:p>&nbsp\;</u5:p></span><o:p></o:p></font></font></p>\n<p class="MsoNormal" style="margin: 0in 0in 0pt\;">\n	<font size="3"><strong><span style="color: black\; font-family: &quot\;Arial&quot\;\,&quot\;sans-serif&quot\;\;">ABOUT US&nbsp\;</span></strong><o:p></o:p></font></p>\n<font color="#000000" face="Times New Roman" size="3"><u5:p></u5:p> </font>\n<p class="MsoNormal" style="margin: 0in 0in 0pt\;">\n	<strong><span style="color: rgb(246\, 80\, 88)\; font-family: &quot\;Arial&quot\;\,&quot\;sans-serif&quot\;\; font-size: 10pt\;">Lexxon Training</span></strong><span style="color: black\; font-family: &quot\;Arial&quot\;\,&quot\;sans-serif&quot\;\; font-size: 10pt\;"> provides transformational workshops that inspire organizational change and personal development for all levels-from the CEO to the front line worker. Our training is delivered face-to-face and hands-on\, through energetic\, interactive workshops and professional support to help your people succeed. We also offer security and safety courses to organizations and individuals. Our training division leads the industry with field expert instructors for professional certification and skills building.<u5:p></u5:p></span><o:p></o:p></p>\n<p class="MsoNormal" style="margin: 0in 0in 0pt\;">\n	<font size="3"><font face="Times New Roman"><span style="color: black\; font-family: &quot\;Arial&quot\;\,&quot\;sans-serif&quot\;\; font-size: 10pt\;"><u5:p>&nbsp\;</u5:p></span><o:p></o:p></font></font></p>\n<strong><span style="color: rgb(246\, 80\, 88)\; font-family: &quot\;Arial&quot\;\,&quot\;sans-serif&quot\;\; font-size: 10pt\; mso-fareast-font-family: Calibri\; mso-fareast-theme-font: minor-latin\; mso-ansi-language: EN-CA\; mso-fareast-language: EN-CA\; mso-bidi-language: AR-SA\;">Coffee and snacks will be provided.</span></strong><span style="color: rgb(246\, 80\, 88)\; font-family: &quot\;Arial&quot\;\,&quot\;sans-serif&quot\;\; font-size: 10pt\; mso-fareast-font-family: Calibri\; mso-fareast-theme-font: minor-latin\; mso-ansi-language: EN-CA\; mso-fareast-language: EN-CA\; mso-bidi-language: AR-SA\;">&nbsp\;<u5:p></u5:p></span>
LOCATION:Lexxon Training Centre Suite 1650\, Station Tower\, 13401 - 108 Avenue\, Surrey\, BC
UID:e.749.2495
SEQUENCE:3
DTSTAMP:20260426T033906Z
URL:https://business.swrbot.com/events/details/how-to-prepare-for-the-unthinkable-active-shooter-awareness-training-12-03-2013-2495
END:VEVENT

END:VCALENDAR
