BEGIN:VCALENDAR
VERSION:2.0
PRODID:-//ChamberMaster//Event Calendar 2.0//EN
METHOD:PUBLISH
X-PUBLISHED-TTL:P3D
REFRESH-INTERVAL:P3D
CALSCALE:GREGORIAN
BEGIN:VEVENT
DTSTART:20140417T230000Z
DTEND:20140418T000000Z
X-MICROSOFT-CDO-ALLDAYEVENT:FALSE
SUMMARY:How to tell the story behind your brand. | Think60
DESCRIPTION:Your organization's story   how it arrived at this point on its journey   reveals everything that makes you unique. It is your company's fingerprint and can be used as a strategic tool   to help your team understand how their everyday role fits into the larger narrative...to tell customers who you are and why...and to provide your leaders with a road map of where you've come from and where your next destination might be\, guiding the decisions that will determine how to get there.\n\n\n\nABOUT OUR GUEST SPEAKER\, LISA GEDDES FROM LISA GEDDES MARKETING\n\nWhen she was young\, she was accused of asking 'why' too often - or so her grade three teacher wrote in my report card. It's no surprise\, then\, that she's always been curious about organizations and their products   their purpose\, story and the truth behind the brand. Throughout her 20-plus years in marketing\, she spent too many days struggling with overly complex or misaligned strategies and messages with inauthentic origins. It wasn't until she became the 'keeper of the story' at the Rick Hansen Foundation\, that she learned the importance of honouring story   and using it as the foundation for your strategy\, brand and communications.\n\n\n\nSeats are limited so reserve your free spot today.
X-ALT-DESC;FMTTYPE=text/html:Your organization&rsquo\;s story &ndash\; how it arrived at this point on its journey &ndash\; reveals everything that makes you unique. It is your company&rsquo\;s fingerprint and can be used as a strategic tool &ndash\; to help your team understand how their everyday role fits into the larger narrative...to tell customers who you are and why...and to provide your leaders with a road map of where you&rsquo\;ve come from and where your next destination might be\, guiding the decisions that will determine how to get there.<br />\n<br />\nABOUT OUR GUEST SPEAKER\, LISA GEDDES FROM LISA GEDDES MARKETING<br />\nWhen she was young\, she was accused of asking &#39\;why&#39\; too often - or so her grade three teacher wrote in my report card. It&#39\;s no surprise\, then\, that she&#39\;s always been curious about organizations and their products &ndash\; their purpose\, story and the truth behind the brand. Throughout her 20-plus years in marketing\, she spent too many days struggling with overly complex or misaligned strategies and messages with inauthentic origins. It wasn&#39\;t until she became the &#39\;keeper of the story&#39\; at the Rick Hansen Foundation\, that she learned the importance of honouring story &ndash\; and using it as the foundation for your strategy\, brand and communications.<br />\n<br />\nSeats are limited so reserve your free spot today.
LOCATION:Studiothink: 10-19300 Langley Bypass\, Surrey\, BC V3S 7R2
UID:e.749.2528
SEQUENCE:3
DTSTAMP:20260425T224352Z
URL:https://business.swrbot.com/events/details/how-to-tell-the-story-behind-your-brand-think60-04-17-2014-2528
END:VEVENT

END:VCALENDAR
