BEGIN:VCALENDAR
VERSION:2.0
PRODID:-//ChamberMaster//Event Calendar 2.0//EN
METHOD:PUBLISH
X-PUBLISHED-TTL:P3D
REFRESH-INTERVAL:P3D
CALSCALE:GREGORIAN
BEGIN:VEVENT
DTSTART:20141203T020000Z
DTEND:20141203T050000Z
X-MICROSOFT-CDO-ALLDAYEVENT:FALSE
SUMMARY:HRMA Holiday Disco Ball
DESCRIPTION:The HRMA holds an event annually at the Fairmont Hotel Vancouver - 900 West Georgia Street (rooftop lounge). This year we have decided to open it up to the Members of Associations/Boards of which we are proud members of\, yours included\, as a special celebration to meet our new CEO Anthony Ariganello. We wish to also extend a member rate invitation to all SBOT members as a special holiday greeting on behalf of HRMA. HRMA is shaking things up this year. Please join us for a night to remember when!
X-ALT-DESC;FMTTYPE=text/html:The HRMA holds an event annually at the Fairmont Hotel Vancouver - 900 West Georgia Street (rooftop lounge). This year we have decided to open it up to the Members of Associations/Boards of which we are proud members of\, yours included\, as a special celebration to meet our new CEO Anthony Ariganello. We wish to also extend a member rate invitation to all SBOT members as a special holiday greeting on behalf of HRMA. HRMA is shaking things up this year. Please join us for a night to remember when!
LOCATION:Fairmont Hotel Vancouver - 900 West Georgia Street (rooftop lounge)
UID:e.749.2831
SEQUENCE:3
DTSTAMP:20260425T124025Z
URL:https://business.swrbot.com/events/details/hrma-holiday-disco-ball-12-02-2014-2831
END:VEVENT

END:VCALENDAR
