BEGIN:VCALENDAR
VERSION:2.0
PRODID:-//ChamberMaster//Event Calendar 2.0//EN
METHOD:PUBLISH
X-PUBLISHED-TTL:P3D
REFRESH-INTERVAL:P3D
CALSCALE:GREGORIAN
BEGIN:VEVENT
DTSTART:20101119T153000Z
DTEND:20101119T173000Z
X-MICROSOFT-CDO-ALLDAYEVENT:FALSE
SUMMARY:HST Implementation Review & Year End Risk Management - CMA BC Vancouver chapter
DESCRIPTION:If you are responsible for HST reporting\, collection or management you should attend this session to determine what you should do now that the first three months of HST have pasted. Maybe your first quarterly payment is now due. Have you over charged\, undercharged HST? How do you audit the IT systems that are currently operating?\n\n\n\nOverview of topics to be covered:\n\n\n\n- Overview of the key HST implementation issues\n\n- Review of common implementation issues and ways to find and correct them.\n\n- Recaptured input tax credits and elections\n\n- Hot topics\, what's new in legislation?\n\n- Risk management considerations\n\n- Preparing for year end ? what's different for 2010?\n\n\n\nThe presenter for this event is Darren Taylor\, CA\, who is the Sales and Indirect Tax Practice Leader at Grant Thornton.\n\n\n\nDarren has over nine years of experience in providing sales and indirect tax planning advice to clients in many different industries and sectors. He helps clients understand how sales and indirect tax impacts their business and works with them proactively to help them manage their sales tax risk and identify refund opportunities.\n\n\n\nDarren has presented extensively to various industry\, public sector and professional associations on the implementation of HST and has helped them develop and effectively manage their transition plans.\n\n\n\n7:30am - 8:00am Registration & Networking\n\n8:00am - 9:30am Presentation and Q&A\n\n\n\nTo register for this event\, visit: http://valleyhst.eventbrite.com/?ref=ecal
X-ALT-DESC;FMTTYPE=text/html:If you are responsible for HST reporting\, collection or management you should attend this session to determine what you should do now that the first three months of HST have pasted. Maybe your first quarterly payment is now due. Have you over charged\, undercharged HST? How do you audit the IT systems that are currently operating?<br />\n<br />\nOverview of topics to be covered:<br />\n<br />\n- Overview of the key HST implementation issues<br />\n- Review of common implementation issues and ways to find and correct them.<br />\n- Recaptured input tax credits and elections<br />\n- Hot topics\, what&#39\;s new in legislation?<br />\n- Risk management considerations<br />\n- Preparing for year end ? what&#39\;s different for 2010?<br />\n<br />\nThe presenter for this event is Darren Taylor\, CA\, who is the Sales and Indirect Tax Practice Leader at Grant Thornton.<br />\n<br />\nDarren has over nine years of experience in providing sales and indirect tax planning advice to clients in many different industries and sectors. He helps clients understand how sales and indirect tax impacts their business and works with them proactively to help them manage their sales tax risk and identify refund opportunities.<br />\n<br />\nDarren has presented extensively to various industry\, public sector and professional associations on the implementation of HST and has helped them develop and effectively manage their transition plans.<br />\n<br />\n7:30am - 8:00am Registration &amp\; Networking<br />\n8:00am - 9:30am Presentation and Q&amp\;A<br />\n<br />\nTo register for this event\, visit: http://valleyhst.eventbrite.com/?ref=ecal
LOCATION:Eaglequest Coyote Creek Golf Course 7778 152 Street\, Surrey\, BC
UID:e.749.1684
SEQUENCE:3
DTSTAMP:20260422T131105Z
URL:https://business.swrbot.com/events/details/hst-implementation-review-year-end-risk-management-cma-bc-vancouver-chapter-11-19-2010-1684
END:VEVENT

END:VCALENDAR
