BEGIN:VCALENDAR
VERSION:2.0
PRODID:-//ChamberMaster//Event Calendar 2.0//EN
METHOD:PUBLISH
X-PUBLISHED-TTL:P3D
REFRESH-INTERVAL:P3D
CALSCALE:GREGORIAN
BEGIN:VEVENT
DTSTART:20101124T030000Z
DTEND:20101124T040000Z
X-MICROSOFT-CDO-ALLDAYEVENT:FALSE
SUMMARY:Identity Theft: Should You Be Concerned?
DESCRIPTION:The DWRM Financial Group is pleased to invite you to a presentation by George Greenwood\, a specialist in identity theft prevention. One in four families are affected by identity theft   learn the easy steps you can take to help prevent your identity from being stolen.
X-ALT-DESC;FMTTYPE=text/html:<p align="left">\n	<b><font face="FrutigerLTStd-Bold" size="2"><font face="FrutigerLTStd-Bold" size="2">The DWRM Financial Group </font></font></b><font face="FrutigerLTStd-Light" size="2"><font face="FrutigerLTStd-Light" size="2">is pleased to invite you to a presentation by </font></font><font face="FrutigerLTStd-Light" size="2"><font face="FrutigerLTStd-Light" size="2">George Greenwood\, a specialist in identity theft prevention. One in four </font></font><font face="FrutigerLTStd-Light" size="2"><font face="FrutigerLTStd-Light" size="2">families are affected by identity theft &mdash\; learn the easy steps you can take </font></font><font face="FrutigerLTStd-Light" size="2"><font face="FrutigerLTStd-Light" size="2">to help prevent your identity from being stolen.</font></font></p>\n
LOCATION:Location: Earl Marriot Secondary Wheelhouse Theatre (15751 16th Avenue\, Surrey)
UID:e.749.1712
SEQUENCE:3
DTSTAMP:20260422T131625Z
URL:https://business.swrbot.com/events/details/identity-theft-should-you-be-concerned-11-23-2010-1712
END:VEVENT

END:VCALENDAR
