BEGIN:VCALENDAR
VERSION:2.0
PRODID:-//ChamberMaster//Event Calendar 2.0//EN
METHOD:PUBLISH
X-PUBLISHED-TTL:P3D
REFRESH-INTERVAL:P3D
CALSCALE:GREGORIAN
BEGIN:VEVENT
DTSTART:20171028T003000Z
DTEND:20171028T033000Z
X-MICROSOFT-CDO-ALLDAYEVENT:FALSE
SUMMARY:Immigrant Entrepreneur & Small Business Fair
DESCRIPTION:The 2nd annual Immigrant Entrepreneur & Small Business Fair at SFU's Surrey Campus on Friday October 27\, 2017 (new date) will bring together knowledgeable business professionals\, entrepreneurs and small business owners as they share their challenges\, triumphs and words of inspiration to start and grow a business in Canada. Attendees will have the opportunity to participate in these activities: - Featured Panel Discussion - 3 successful entrepreneurs who were once new to Canada will share their challenges\, triumphs and words of encouragement for aspiring immigrant entrepreneurs. -Immigrant Entrepreneur Grant for 2017   3 winners of the $1000 entrepreneur grant will be announced! Event participants can discuss with small business/start-ups owners and get inspired by their business ideas and implementation plan. -Exhibitor Booths - where sponsor organizations showcase their business and self-employment services which are available to assist in aspiring entrepreneurs' journey to become successful business owners.
X-ALT-DESC;FMTTYPE=text/html:The 2nd annual Immigrant Entrepreneur &amp\; Small Business Fair at SFU&#39\;s Surrey Campus on Friday October 27\, 2017 (new date) will bring together knowledgeable business professionals\, entrepreneurs and small business owners as they share their challenges\, triumphs and words of inspiration to start and grow a business in Canada. Attendees will have the opportunity to participate in these activities: - Featured Panel Discussion - 3 successful entrepreneurs who were once new to Canada will share their challenges\, triumphs and words of encouragement for aspiring immigrant entrepreneurs. -Immigrant Entrepreneur Grant for 2017 &ndash\; 3 winners of the $1000 entrepreneur grant will be announced! Event participants can discuss with small business/start-ups owners and get inspired by their business ideas and implementation plan. -Exhibitor Booths - where sponsor organizations showcase their business and self-employment services which are available to assist in aspiring entrepreneurs&rsquo\; journey to become successful business owners.
LOCATION:SFU Surrey @ the Mezzanine 13450 102 Ave Surrey\, BC V3T 0A3
UID:e.749.5478
SEQUENCE:3
DTSTAMP:20260421T192318Z
URL:https://business.swrbot.com/events/details/immigrant-entrepreneur-small-business-fair-10-27-2017-5478
END:VEVENT

END:VCALENDAR
