BEGIN:VCALENDAR
VERSION:2.0
PRODID:-//ChamberMaster//Event Calendar 2.0//EN
METHOD:PUBLISH
X-PUBLISHED-TTL:P3D
REFRESH-INTERVAL:P3D
CALSCALE:GREGORIAN
BEGIN:VEVENT
DTSTART:20200206T003000Z
DTEND:20200206T020000Z
X-MICROSOFT-CDO-ALLDAYEVENT:FALSE
SUMMARY:Immigration Options for Entrepreneurs Seminar
DESCRIPTION:This seminar presented by Sedai Law Office will explain the temporary and permanent resident options for foreign national entrepreneurs wishing to do business in Canada.\n\nSedai Law Office focuses exclusively on Canadian immigration and citizenship law\, ensuring a high level of expertise. We advise individual and business clients around the globe who are destined for any Canadian location.
X-ALT-DESC;FMTTYPE=text/html:<p>This seminar presented by Sedai Law Office will explain the temporary and permanent resident options for foreign national entrepreneurs wishing to do business in Canada.</p>\n\n<p>Sedai Law Office focuses exclusively on Canadian immigration and citizenship law\, ensuring a high level of expertise.&nbsp\;We advise individual and business clients around the globe who are destined for any Canadian location.</p>\n
LOCATION:Sedai Law Office Suite 403 - 15225 104 Avenue\, Surrey\, V3R 6Y8
UID:e.749.10795
SEQUENCE:3
DTSTAMP:20260420T070025Z
URL:https://business.swrbot.com/events/details/immigration-options-for-entrepreneurs-seminar-02-05-2020-10795
END:VEVENT

END:VCALENDAR
