BEGIN:VCALENDAR
VERSION:2.0
PRODID:-//ChamberMaster//Event Calendar 2.0//EN
METHOD:PUBLISH
X-PUBLISHED-TTL:P3D
REFRESH-INTERVAL:P3D
CALSCALE:GREGORIAN
BEGIN:VEVENT
DTSTART:20140326T190000Z
DTEND:20140326T190000Z
X-MICROSOFT-CDO-ALLDAYEVENT:FALSE
SUMMARY:Increase Profits By 69% in 90 Days
DESCRIPTION:Exclusively For Manufacturing\, Trades & Technology Companies\n\n\n	\n		    Learn the proven Business Success Formula Used By Thousands of Companies to make industry leading profits\n	\n		    Learn at least 3 strategies you can implement immediately to drive sales & increase profits\n	\n		    Dramatically improve cash flow and productivity\n	\n		    Get Your Team Focused on the "Right" things\n\nCost Includes Lunch & Materials\n\n\n\nThere are only 12 seats available for this exclusive presentation so Book Your Seat Now.\n\n\n\n100% Money Back Guarantee: You will get your money back if you don't feel the workshop was worth every minute of your time.
X-ALT-DESC;FMTTYPE=text/html:<strong>Exclusively For Manufacturing\, Trades &amp\; Technology Companies</strong><br />\n<ul>\n	<li>\n		&nbsp\;&nbsp\;&nbsp\; Learn the proven Business Success Formula Used By Thousands of Companies to make i<u>ndustry leading profits</u></li>\n	<li>\n		&nbsp\;&nbsp\;&nbsp\; Learn at least 3 strategies you can implement immediately to <u>drive sales &amp\; increase profits</u></li>\n	<li>\n		&nbsp\;&nbsp\;&nbsp\; Dramatically <u>improve cash flow</u> and <u>productivity</u></li>\n	<li>\n		&nbsp\;&nbsp\;&nbsp\; Get Your Team <u>Focused on the &ldquo\;Right&rdquo\; things</u></li>\n</ul>\nCost Includes Lunch &amp\; Materials<br />\n<br />\nThere are <u>only 12 seats available</u> for this exclusive presentation so Book Your Seat Now.<br />\n<br />\n100% Money Back Guarantee: You will get your money back if you don&rsquo\;t feel the workshop was worth every minute of your time.
LOCATION:Ramada Inn (Bakerview Room) 19225 - 56th Avenue Surrey\, BC V3S 8V9
UID:e.749.2561
SEQUENCE:3
DTSTAMP:20260425T235254Z
URL:https://business.swrbot.com/events/details/increase-profits-by-69-in-90-days-03-26-2014-2561
END:VEVENT

END:VCALENDAR
