BEGIN:VCALENDAR
VERSION:2.0
PRODID:-//ChamberMaster//Event Calendar 2.0//EN
METHOD:PUBLISH
X-PUBLISHED-TTL:P3D
REFRESH-INTERVAL:P3D
CALSCALE:GREGORIAN
BEGIN:VEVENT
DTSTART;VALUE=DATE:20140702
DTEND;VALUE=DATE:20140703
TRANSP:TRANSPARENT
X-MICROSOFT-CDO-ALLDAYEVENT:TRUE
SUMMARY:Inspirational Latin Awards
DESCRIPTION:
X-ALT-DESC;FMTTYPE=text/html:
LOCATION:Edge Water Casino\, Private Stadium Club
UID:e.749.2679
SEQUENCE:3
DTSTAMP:20260425T190316Z
URL:https://business.swrbot.com/events/details/inspirational-latin-awards-07-02-2014-2679
END:VEVENT

END:VCALENDAR
