BEGIN:VCALENDAR
VERSION:2.0
PRODID:-//ChamberMaster//Event Calendar 2.0//EN
METHOD:PUBLISH
X-PUBLISHED-TTL:P3D
REFRESH-INTERVAL:P3D
CALSCALE:GREGORIAN
BEGIN:VEVENT
DTSTART;VALUE=DATE:20140707
DTEND;VALUE=DATE:20140708
TRANSP:TRANSPARENT
X-MICROSOFT-CDO-ALLDAYEVENT:TRUE
SUMMARY:Inspirational Latin Awards Ceremony
DESCRIPTION:Let's get together at this INSPIRATIONAL LATIN NIGHT.\n\n\n\nLIVE MUSIC from pianist Marinella Ramos\, Juno Award Winner Fito Garcia &  Brijera Band Bosa  Nova. \n\n\n\nENJOY FREE APPETIZERS\, BEVERAGES and LIVE ENTRETAIMENT with your fellow Latinos.\n\n\n\nCELEBRATE and RECOGNIZE DISTINGUISHED MEMBERS of our Latin American communities for their OUTSTANDING ACHIEVEMENTS and CONTRIBUTIONS.
X-ALT-DESC;FMTTYPE=text/html:<i><span style="font-size:10.0pt\;line-height:115%\;\nfont-family:&quot\;Arial&quot\;\,&quot\;sans-serif&quot\;\;mso-fareast-font-family:&quot\;Times New Roman&quot\;\;\ncolor:#222222\;mso-ansi-language:EN-GB\;mso-fareast-language:EN-GB\;mso-bidi-language:\nAR-SA">Let&#39\;s get together at this INSPIRATIONAL LATIN NIGHT.</span><br />\n<br />\n<span lang="EN-CA" style="font-size:10.0pt\;line-height:115%\;font-family:\n&quot\;Arial&quot\;\,&quot\;sans-serif&quot\;\;mso-fareast-font-family:&quot\;Times New Roman&quot\;\;color:#003333\;\nmso-ansi-language:EN-CA\;mso-fareast-language:EN-GB\;mso-bidi-language:AR-SA">LIVE MUSIC from&nbsp\;</span><span style="font-size:10.0pt\;line-height:115%\;\nfont-family:&quot\;Arial&quot\;\,&quot\;sans-serif&quot\;\;mso-fareast-font-family:&quot\;Times New Roman&quot\;\;\ncolor:#003333\;mso-ansi-language:EN-GB\;mso-fareast-language:EN-GB\;mso-bidi-language:\nAR-SA">pianist Marinella Ramos\, Juno Award Winner&nbsp\;Fito Garcia &amp\;&#8203\;&nbsp\;Brijera Band Bosa&nbsp\;&#8203\;Nova.&nbsp\;<br />\n<br />\nENJOY FREE APPETIZERS\, BEVERAGES&nbsp\;</span><span style="font-size:10.0pt\;\nline-height:115%\;font-family:&quot\;Arial&quot\;\,&quot\;sans-serif&quot\;\;mso-fareast-font-family:&quot\;Times New Roman&quot\;\;\ncolor:#222222\;mso-ansi-language:EN-GB\;mso-fareast-language:EN-GB\;mso-bidi-language:\nAR-SA">and LIVE ENTRETAIMENT with&nbsp\;your fellow Latinos.<br />\n<br />\nCELEBRATE and RECOGNIZE DISTINGUISHED MEMBERS of our Latin American&nbsp\;communities for their OUTSTANDING ACHIEVEMENTS and CONTRIBUTIONS.</span></i>
LOCATION:Edge Water Casino\, Private Stadium Club
UID:e.749.2680
SEQUENCE:3
DTSTAMP:20260425T191423Z
URL:https://business.swrbot.com/events/details/inspirational-latin-awards-ceremony-07-07-2014-2680
END:VEVENT

END:VCALENDAR
