BEGIN:VCALENDAR
VERSION:2.0
PRODID:-//ChamberMaster//Event Calendar 2.0//EN
METHOD:PUBLISH
X-PUBLISHED-TTL:P3D
REFRESH-INTERVAL:P3D
CALSCALE:GREGORIAN
BEGIN:VEVENT
DTSTART:20171124T020000Z
DTEND:20171124T040000Z
X-MICROSOFT-CDO-ALLDAYEVENT:FALSE
SUMMARY:Instant Imprints - Open House
DESCRIPTION:You are cordially invited to our Open House in celebration of new ownership of Instant Imprints - Newton. Come meet the new team\, check out our renovated showroom and new Fall/Winter apparel. Mingle and network with other local businesses\, be interactive\, and print your own custom t-shirt. At our open house\, everyone is a winner with door prizes. Drop your business card for a chance to win a FREE STANDUP BANNER valued at over $400 (includes designing). Light snacks and refreshments will be served. Please RSVP: https://instantimprintsopenhouse.eventbrite.ca
X-ALT-DESC;FMTTYPE=text/html:You are cordially invited to our Open House in celebration of new ownership of Instant Imprints - Newton. Come meet the new team\, check out our renovated showroom and new Fall/Winter apparel. Mingle and network with other local businesses\, be interactive\, and print your own custom t-shirt. At our open house\, everyone is a winner with door prizes. Drop your business card for a chance to win a FREE STANDUP BANNER valued at over $400 (includes designing). Light snacks and refreshments will be served. Please RSVP: https://instantimprintsopenhouse.eventbrite.ca
LOCATION:Unit 109-8077 King George Blvd. | Surrey\, British Columbia V3W 5B4 | Canada
UID:e.749.5548
SEQUENCE:3
DTSTAMP:20260421T180344Z
URL:https://business.swrbot.com/events/details/instant-imprints-open-house-11-23-2017-5548
END:VEVENT

END:VCALENDAR
