BEGIN:VCALENDAR
VERSION:2.0
PRODID:-//ChamberMaster//Event Calendar 2.0//EN
METHOD:PUBLISH
X-PUBLISHED-TTL:P3D
REFRESH-INTERVAL:P3D
CALSCALE:GREGORIAN
BEGIN:VEVENT
DTSTART:20170430T020000Z
DTEND:20170430T030000Z
X-MICROSOFT-CDO-ALLDAYEVENT:FALSE
SUMMARY:International Dance Day Celebration
DESCRIPTION:An unique celebration of International Dance Day that fuses the art of movement with the visual arts\, photography\, and film. Presented by XBa DanceCo
X-ALT-DESC;FMTTYPE=text/html:An unique celebration of International Dance Day that fuses the art of movement with the visual arts\, photography\, and film. Presented by XBa DanceCo
LOCATION:Surrey Arts Centre Studio Theatre
UID:e.749.5314
SEQUENCE:3
DTSTAMP:20260422T023644Z
URL:https://business.swrbot.com/events/details/international-dance-day-celebration-04-29-2017-5314
END:VEVENT

END:VCALENDAR
