BEGIN:VCALENDAR
VERSION:2.0
PRODID:-//ChamberMaster//Event Calendar 2.0//EN
METHOD:PUBLISH
X-PUBLISHED-TTL:P3D
REFRESH-INTERVAL:P3D
CALSCALE:GREGORIAN
BEGIN:VEVENT
DTSTART:20200306T223000Z
DTEND:20200307T003000Z
X-MICROSOFT-CDO-ALLDAYEVENT:FALSE
SUMMARY:International Women's Day Event 2020
DESCRIPTION:Join us and our hosts\, MLAs Stephanie Cadieux\, Tracy Redies\, and Marvin Hunt\, for this special event featuring inspiring interviews\, networking\, door prizes and more!
X-ALT-DESC;FMTTYPE=text/html:<span style="font-family: Arial\, Verdana\, Helvetica\, sans-serif\; font-size: 14px\; white-space: pre-wrap\;">Join us and our hosts\, MLAs Stephanie Cadieux\, Tracy Redies\, and Marvin Hunt\, for this special event featuring inspiring interviews\, networking\, door prizes and more! </span>
LOCATION:Oceana PARC 1575 George St. White Rock
UID:e.749.14004
SEQUENCE:3
DTSTAMP:20260420T052737Z
URL:https://business.swrbot.com/events/details/international-women-s-day-event-2020-03-06-2020-14004
END:VEVENT

END:VCALENDAR
