BEGIN:VCALENDAR
VERSION:2.0
PRODID:-//ChamberMaster//Event Calendar 2.0//EN
METHOD:PUBLISH
X-PUBLISHED-TTL:P3D
REFRESH-INTERVAL:P3D
CALSCALE:GREGORIAN
BEGIN:VEVENT
DTSTART:20180112T013000Z
DTEND:20180112T043000Z
X-MICROSOFT-CDO-ALLDAYEVENT:FALSE
SUMMARY:January 11\, 2018 - New Year\, New Connections - SOLD OUT!
DESCRIPTION:Join us as 450 Members representing 15 chambers unite for an evening of unprecedented networking and fellowship.\n\n\n\n450 Members\n\n15 Chambers\n\n1 Amazing Evening\n\n \nChamber partners: \n\nAbbotsford Chamber of Commerce\n\nBurnaby Board of Trade\n\nCloverdale Chamber of Commerce\n\nDelta Chamber of Commerce\n\nGreater Langley Chamber of Commerce\n\nGreater Vancouver Board of Trade\n\nMaple Ridge/Pitt Meadows Chamber of Commerce\n\nNorth Vancouver Chamber of Commerce\n\nMission Regional Chamber of Commerce\n\nNew Westminster Chamber of Commerce\n\nRichmond Chamber of Commerce\n\nSurrey Board of Trade\n\nSouth Surrey & White Rock Chamber of Commerce\n\nTri-Cities Chamber of Commerce\n\nWest Vancouver Chamber of Commerce\n\n \n\nContact info@businessinsurrey.com for any inquiries.e
X-ALT-DESC;FMTTYPE=text/html:<span style="color:#000000\;"><span style="font-family: arial\,helvetica\,sans-serif\;"><font size="2"><span class="m_611357823689618794m_-4009785963553047376gmail-m_-6852769929877171768m_8858371679628275103m_7340380357212838586m_7209102309573294263gmail-aBn"><span class="m_611357823689618794m_-4009785963553047376gmail-m_-6852769929877171768m_8858371679628275103m_7340380357212838586m_7209102309573294263gmail-aQJ"><span class="m_611357823689618794m_-4009785963553047376gmail-aBn"><span class="m_611357823689618794m_-4009785963553047376gmail-aQJ">Join us as 450 Members representing 15 chambers unite for an evening of unprecedented networking and fellowship.<br />\n<br />\n450 Members<br />\n15 Chambers<br />\n1 Amazing Evening</span></span></span></span></font></span></span><br />\n&nbsp\;\n<div><span style="color:#000000\;"><span style="font-family: arial\,helvetica\,sans-serif\;"><font size="2"><span class="m_611357823689618794m_-4009785963553047376gmail-m_-6852769929877171768m_8858371679628275103m_7340380357212838586m_7209102309573294263gmail-aBn"><span class="m_611357823689618794m_-4009785963553047376gmail-m_-6852769929877171768m_8858371679628275103m_7340380357212838586m_7209102309573294263gmail-aQJ"><span class="m_611357823689618794m_-4009785963553047376gmail-aBn"><span class="m_611357823689618794m_-4009785963553047376gmail-aQJ">Chamber partners: </span></span></span></span></font></span></span></div>\n\n<div><span style="color:#000000\;"><span style="font-family: arial\,helvetica\,sans-serif\;"><font size="2"><span class="m_611357823689618794m_-4009785963553047376gmail-m_-6852769929877171768m_8858371679628275103m_7340380357212838586m_7209102309573294263gmail-aBn"><span class="m_611357823689618794m_-4009785963553047376gmail-m_-6852769929877171768m_8858371679628275103m_7340380357212838586m_7209102309573294263gmail-aQJ"><span class="m_611357823689618794m_-4009785963553047376gmail-aBn"><span class="m_611357823689618794m_-4009785963553047376gmail-aQJ">Abbotsford Chamber of Commerce</span></span></span></span></font></span></span></div>\n\n<div><span style="color:#000000\;"><span style="font-family: arial\,helvetica\,sans-serif\;"><font size="2"><span class="m_611357823689618794m_-4009785963553047376gmail-m_-6852769929877171768m_8858371679628275103m_7340380357212838586m_7209102309573294263gmail-aBn"><span class="m_611357823689618794m_-4009785963553047376gmail-m_-6852769929877171768m_8858371679628275103m_7340380357212838586m_7209102309573294263gmail-aQJ"><span class="m_611357823689618794m_-4009785963553047376gmail-aBn"><span class="m_611357823689618794m_-4009785963553047376gmail-aQJ">Burnaby Board of Trade</span></span></span></span></font></span></span></div>\n\n<div><span style="color:#000000\;"><span style="font-family: arial\,helvetica\,sans-serif\;"><font size="2"><span class="m_611357823689618794m_-4009785963553047376gmail-m_-6852769929877171768m_8858371679628275103m_7340380357212838586m_7209102309573294263gmail-aBn"><span class="m_611357823689618794m_-4009785963553047376gmail-m_-6852769929877171768m_8858371679628275103m_7340380357212838586m_7209102309573294263gmail-aQJ"><span class="m_611357823689618794m_-4009785963553047376gmail-aBn"><span class="m_611357823689618794m_-4009785963553047376gmail-aQJ">Cloverdale Chamber of Commerce</span></span></span></span></font></span></span></div>\n\n<div><span style="color:#000000\;"><span style="font-family: arial\,helvetica\,sans-serif\;"><font size="2"><span class="m_611357823689618794m_-4009785963553047376gmail-m_-6852769929877171768m_8858371679628275103m_7340380357212838586m_7209102309573294263gmail-aBn"><span class="m_611357823689618794m_-4009785963553047376gmail-m_-6852769929877171768m_8858371679628275103m_7340380357212838586m_7209102309573294263gmail-aQJ"><span class="m_611357823689618794m_-4009785963553047376gmail-aBn"><span class="m_611357823689618794m_-4009785963553047376gmail-aQJ">Delta Chamber of Commerce</span></span></span></span></font></span></span></div>\n\n<div><span style="color:#000000\;"><span style="font-family: arial\,helvetica\,sans-serif\;"><font size="2"><span class="m_611357823689618794m_-4009785963553047376gmail-m_-6852769929877171768m_8858371679628275103m_7340380357212838586m_7209102309573294263gmail-aBn"><span class="m_611357823689618794m_-4009785963553047376gmail-m_-6852769929877171768m_8858371679628275103m_7340380357212838586m_7209102309573294263gmail-aQJ"><span class="m_611357823689618794m_-4009785963553047376gmail-aBn"><span class="m_611357823689618794m_-4009785963553047376gmail-aQJ">Greater Langley Chamber of Commerce<br />\nGreater Vancouver Board of Trade</span></span></span></span></font></span></span></div>\n\n<div><span style="color:#000000\;"><span style="font-family: arial\,helvetica\,sans-serif\;"><font size="2"><span class="m_611357823689618794m_-4009785963553047376gmail-m_-6852769929877171768m_8858371679628275103m_7340380357212838586m_7209102309573294263gmail-aBn"><span class="m_611357823689618794m_-4009785963553047376gmail-m_-6852769929877171768m_8858371679628275103m_7340380357212838586m_7209102309573294263gmail-aQJ"><span class="m_611357823689618794m_-4009785963553047376gmail-aBn"><span class="m_611357823689618794m_-4009785963553047376gmail-aQJ">Maple Ridge/Pitt Meadows Chamber of Commerce<br />\nNorth Vancouver Chamber of Commerce</span></span></span></span></font></span></span></div>\n\n<div><span style="color:#000000\;"><span style="font-family: arial\,helvetica\,sans-serif\;"><font size="2"><span class="m_611357823689618794m_-4009785963553047376gmail-m_-6852769929877171768m_8858371679628275103m_7340380357212838586m_7209102309573294263gmail-aBn"><span class="m_611357823689618794m_-4009785963553047376gmail-m_-6852769929877171768m_8858371679628275103m_7340380357212838586m_7209102309573294263gmail-aQJ"><span class="m_611357823689618794m_-4009785963553047376gmail-aBn"><span class="m_611357823689618794m_-4009785963553047376gmail-aQJ">Mission Regional Chamber of Commerce</span></span></span></span></font></span></span></div>\n\n<div><span style="color:#000000\;"><span style="font-family: arial\,helvetica\,sans-serif\;"><font size="2"><span class="m_611357823689618794m_-4009785963553047376gmail-m_-6852769929877171768m_8858371679628275103m_7340380357212838586m_7209102309573294263gmail-aBn"><span class="m_611357823689618794m_-4009785963553047376gmail-m_-6852769929877171768m_8858371679628275103m_7340380357212838586m_7209102309573294263gmail-aQJ"><span class="m_611357823689618794m_-4009785963553047376gmail-aBn"><span class="m_611357823689618794m_-4009785963553047376gmail-aQJ">New Westminster Chamber of Commerce<br />\nRichmond Chamber of Commerce</span></span></span></span></font></span></span></div>\n\n<div><span style="color: rgb(0\, 0\, 0)\;"><span style="font-family: arial\, helvetica\, sans-serif\;"><font size="2"><span class="m_611357823689618794m_-4009785963553047376gmail-m_-6852769929877171768m_8858371679628275103m_7340380357212838586m_7209102309573294263gmail-aBn"><span class="m_611357823689618794m_-4009785963553047376gmail-m_-6852769929877171768m_8858371679628275103m_7340380357212838586m_7209102309573294263gmail-aQJ"><span class="m_611357823689618794m_-4009785963553047376gmail-aBn"><span class="m_611357823689618794m_-4009785963553047376gmail-aQJ">Surrey Board of Trade</span></span></span></span></font></span></span></div>\n\n<div><span style="color: rgb(0\, 0\, 0)\;"><span style="font-family: arial\, helvetica\, sans-serif\;"><font size="2"><span class="m_611357823689618794m_-4009785963553047376gmail-m_-6852769929877171768m_8858371679628275103m_7340380357212838586m_7209102309573294263gmail-aBn"><span class="m_611357823689618794m_-4009785963553047376gmail-m_-6852769929877171768m_8858371679628275103m_7340380357212838586m_7209102309573294263gmail-aQJ"><span class="m_611357823689618794m_-4009785963553047376gmail-aBn"><span class="m_611357823689618794m_-4009785963553047376gmail-aQJ">South Surrey &amp\; White Rock Chamber of Commerce</span></span></span></span></font></span></span></div>\n\n<div><span style="color: rgb(0\, 0\, 0)\;"><span style="font-size: 11pt\; font-family: calibri\, sans-serif\;"><span class="m_611357823689618794m_-4009785963553047376gmail-m_-6852769929877171768m_8858371679628275103m_7340380357212838586m_7209102309573294263gmail-aBn"><span class="m_611357823689618794m_-4009785963553047376gmail-m_-6852769929877171768m_8858371679628275103m_7340380357212838586m_7209102309573294263gmail-aQJ"><span class="m_611357823689618794m_-4009785963553047376gmail-aBn"><span class="m_611357823689618794m_-4009785963553047376gmail-aQJ"><span style="font-family: arial\, helvetica\, sans-serif\;"><font size="2">Tri-Cities Chamber of Commerce<br />\nWest Vancouver Chamber of Commerce</font></span></span></span></span></span></span></span><br />\n&nbsp\;</div>\n\n<div><span style="font-size: small\; font-family: arial\, helvetica\, sans-serif\; color: rgb(0\, 0\, 0)\;">Contact info@businessinsurrey.com for any inquiries.</span><span style="color:#000000\;"><span style="font-family: arial\,helvetica\,sans-serif\;"><font size="2"><span class="m_611357823689618794m_-4009785963553047376gmail-m_-6852769929877171768m_8858371679628275103m_7340380357212838586m_7209102309573294263gmail-aBn"><span class="m_611357823689618794m_-4009785963553047376gmail-m_-6852769929877171768m_8858371679628275103m_7340380357212838586m_7209102309573294263gmail-aQJ"><span class="m_611357823689618794m_-4009785963553047376gmail-aBn"><span class="m_611357823689618794m_-4009785963553047376gmail-aQJ">e</span></span></span></span></font></span></span></div>\n
LOCATION:Anvil Centre 777 Columbia St\, New Westminster\, BC\, V3M 1B6
UID:e.749.5556
SEQUENCE:3
DTSTAMP:20260421T152756Z
URL:https://business.swrbot.com/events/details/january-11-2018-new-year-new-connections-sold-out-01-11-2018-5556
END:VEVENT

END:VCALENDAR
