BEGIN:VCALENDAR
VERSION:2.0
PRODID:-//ChamberMaster//Event Calendar 2.0//EN
METHOD:PUBLISH
X-PUBLISHED-TTL:P3D
REFRESH-INTERVAL:P3D
CALSCALE:GREGORIAN
BEGIN:VEVENT
DTSTART:20170113T013000Z
DTEND:20170113T040000Z
X-MICROSOFT-CDO-ALLDAYEVENT:FALSE
SUMMARY:January 12\, 2017 - New Year\, New Connections
DESCRIPTION:SOLD OUT!\n\nContact info@businessinsurrey or 604.581.7130 for inquiries.\n\n\n\nJoin us as 450 Members representing 13 chambers unite for an evening of unprecedented networking and fellowship.\n\n\n\n450 Members\n\n13 Chambers\n\n1 Amazing Evening\n\n \nChamber partners: \n\nAbbotsford Chamber of Commerce\n\nBurnaby Board of Trade\n\nCloverdale Chamber of Commerce\n\nDelta Chamber of Commerce\n\nLangley Chamber of Commerce\n\nMaple Ridge/Pitt Meadows Chamber of Commerce\n\nMission Regional Chamber of Commerce\n\nNew Westminster Chamber of Commerce\n\nNorth Vancouver Chamber of Commerce\n\nSurrey Board of Trade\n\nSouth Surrey & White Rock Chamber of Commerce\n\nTri-Cities Chamber of Commerce\n\nGreater Vancouver Board of Trade
X-ALT-DESC;FMTTYPE=text/html:<span style="font-family:arial\,helvetica\,sans-serif"><font size="2"><span class="m_611357823689618794m_-4009785963553047376gmail-m_-6852769929877171768m_8858371679628275103m_7340380357212838586m_7209102309573294263gmail-aBn"><span class="m_611357823689618794m_-4009785963553047376gmail-m_-6852769929877171768m_8858371679628275103m_7340380357212838586m_7209102309573294263gmail-aQJ"><span class="m_611357823689618794m_-4009785963553047376gmail-aBn"><span class="m_611357823689618794m_-4009785963553047376gmail-aQJ"><span style="color:#FF0000\;"><strong>SOLD OUT!</strong></span><br />\nContact info@businessinsurrey or 604.581.7130 for inquiries.<br />\n<br />\nJoin us as 450 Members representing 13 chambers unite for an evening of unprecedented networking and fellowship.<br />\n<br />\n450 Members<br />\n13 Chambers<br />\n1 Amazing Evening</span></span></span></span></font></span><br />\n&nbsp\;\n<div><span style="font-family:arial\,helvetica\,sans-serif"><font size="2"><span class="m_611357823689618794m_-4009785963553047376gmail-m_-6852769929877171768m_8858371679628275103m_7340380357212838586m_7209102309573294263gmail-aBn"><span class="m_611357823689618794m_-4009785963553047376gmail-m_-6852769929877171768m_8858371679628275103m_7340380357212838586m_7209102309573294263gmail-aQJ"><span class="m_611357823689618794m_-4009785963553047376gmail-aBn"><span class="m_611357823689618794m_-4009785963553047376gmail-aQJ">Chamber partners: </span></span></span></span></font></span></div>\n\n<div><span style="font-family:arial\,helvetica\,sans-serif"><font size="2"><span class="m_611357823689618794m_-4009785963553047376gmail-m_-6852769929877171768m_8858371679628275103m_7340380357212838586m_7209102309573294263gmail-aBn"><span class="m_611357823689618794m_-4009785963553047376gmail-m_-6852769929877171768m_8858371679628275103m_7340380357212838586m_7209102309573294263gmail-aQJ"><span class="m_611357823689618794m_-4009785963553047376gmail-aBn"><span class="m_611357823689618794m_-4009785963553047376gmail-aQJ">Abbotsford Chamber of Commerce</span></span></span></span></font></span></div>\n\n<div><span style="font-family:arial\,helvetica\,sans-serif"><font size="2"><span class="m_611357823689618794m_-4009785963553047376gmail-m_-6852769929877171768m_8858371679628275103m_7340380357212838586m_7209102309573294263gmail-aBn"><span class="m_611357823689618794m_-4009785963553047376gmail-m_-6852769929877171768m_8858371679628275103m_7340380357212838586m_7209102309573294263gmail-aQJ"><span class="m_611357823689618794m_-4009785963553047376gmail-aBn"><span class="m_611357823689618794m_-4009785963553047376gmail-aQJ">Burnaby Board of Trade</span></span></span></span></font></span></div>\n\n<div><span style="font-family:arial\,helvetica\,sans-serif"><font size="2"><span class="m_611357823689618794m_-4009785963553047376gmail-m_-6852769929877171768m_8858371679628275103m_7340380357212838586m_7209102309573294263gmail-aBn"><span class="m_611357823689618794m_-4009785963553047376gmail-m_-6852769929877171768m_8858371679628275103m_7340380357212838586m_7209102309573294263gmail-aQJ"><span class="m_611357823689618794m_-4009785963553047376gmail-aBn"><span class="m_611357823689618794m_-4009785963553047376gmail-aQJ">Cloverdale Chamber of Commerce</span></span></span></span></font></span></div>\n\n<div><span style="font-family:arial\,helvetica\,sans-serif"><font size="2"><span class="m_611357823689618794m_-4009785963553047376gmail-m_-6852769929877171768m_8858371679628275103m_7340380357212838586m_7209102309573294263gmail-aBn"><span class="m_611357823689618794m_-4009785963553047376gmail-m_-6852769929877171768m_8858371679628275103m_7340380357212838586m_7209102309573294263gmail-aQJ"><span class="m_611357823689618794m_-4009785963553047376gmail-aBn"><span class="m_611357823689618794m_-4009785963553047376gmail-aQJ">Delta Chamber of Commerce</span></span></span></span></font></span></div>\n\n<div><span style="font-family:arial\,helvetica\,sans-serif"><font size="2"><span class="m_611357823689618794m_-4009785963553047376gmail-m_-6852769929877171768m_8858371679628275103m_7340380357212838586m_7209102309573294263gmail-aBn"><span class="m_611357823689618794m_-4009785963553047376gmail-m_-6852769929877171768m_8858371679628275103m_7340380357212838586m_7209102309573294263gmail-aQJ"><span class="m_611357823689618794m_-4009785963553047376gmail-aBn"><span class="m_611357823689618794m_-4009785963553047376gmail-aQJ">Langley Chamber of Commerce</span></span></span></span></font></span></div>\n\n<div><span style="font-family:arial\,helvetica\,sans-serif"><font size="2"><span class="m_611357823689618794m_-4009785963553047376gmail-m_-6852769929877171768m_8858371679628275103m_7340380357212838586m_7209102309573294263gmail-aBn"><span class="m_611357823689618794m_-4009785963553047376gmail-m_-6852769929877171768m_8858371679628275103m_7340380357212838586m_7209102309573294263gmail-aQJ"><span class="m_611357823689618794m_-4009785963553047376gmail-aBn"><span class="m_611357823689618794m_-4009785963553047376gmail-aQJ">Maple Ridge/Pitt Meadows Chamber of Commerce</span></span></span></span></font></span></div>\n\n<div><span style="font-family:arial\,helvetica\,sans-serif"><font size="2"><span class="m_611357823689618794m_-4009785963553047376gmail-m_-6852769929877171768m_8858371679628275103m_7340380357212838586m_7209102309573294263gmail-aBn"><span class="m_611357823689618794m_-4009785963553047376gmail-m_-6852769929877171768m_8858371679628275103m_7340380357212838586m_7209102309573294263gmail-aQJ"><span class="m_611357823689618794m_-4009785963553047376gmail-aBn"><span class="m_611357823689618794m_-4009785963553047376gmail-aQJ">Mission Regional Chamber of Commerce</span></span></span></span></font></span></div>\n\n<div><span style="font-family:arial\,helvetica\,sans-serif"><font size="2"><span class="m_611357823689618794m_-4009785963553047376gmail-m_-6852769929877171768m_8858371679628275103m_7340380357212838586m_7209102309573294263gmail-aBn"><span class="m_611357823689618794m_-4009785963553047376gmail-m_-6852769929877171768m_8858371679628275103m_7340380357212838586m_7209102309573294263gmail-aQJ"><span class="m_611357823689618794m_-4009785963553047376gmail-aBn"><span class="m_611357823689618794m_-4009785963553047376gmail-aQJ">New Westminster Chamber of Commerce</span></span></span></span></font></span></div>\n\n<div><span style="font-family:arial\,helvetica\,sans-serif"><font size="2"><span class="m_611357823689618794m_-4009785963553047376gmail-m_-6852769929877171768m_8858371679628275103m_7340380357212838586m_7209102309573294263gmail-aBn"><span class="m_611357823689618794m_-4009785963553047376gmail-m_-6852769929877171768m_8858371679628275103m_7340380357212838586m_7209102309573294263gmail-aQJ"><span class="m_611357823689618794m_-4009785963553047376gmail-aBn"><span class="m_611357823689618794m_-4009785963553047376gmail-aQJ">North Vancouver Chamber of Commerce</span></span></span></span></font></span></div>\n\n<div><span style="font-family:arial\,helvetica\,sans-serif"><font size="2"><span class="m_611357823689618794m_-4009785963553047376gmail-m_-6852769929877171768m_8858371679628275103m_7340380357212838586m_7209102309573294263gmail-aBn"><span class="m_611357823689618794m_-4009785963553047376gmail-m_-6852769929877171768m_8858371679628275103m_7340380357212838586m_7209102309573294263gmail-aQJ"><span class="m_611357823689618794m_-4009785963553047376gmail-aBn"><span class="m_611357823689618794m_-4009785963553047376gmail-aQJ">Surrey Board of Trade</span></span></span></span></font></span></div>\n\n<div><span style="font-family:arial\,helvetica\,sans-serif"><font size="2"><span class="m_611357823689618794m_-4009785963553047376gmail-m_-6852769929877171768m_8858371679628275103m_7340380357212838586m_7209102309573294263gmail-aBn"><span class="m_611357823689618794m_-4009785963553047376gmail-m_-6852769929877171768m_8858371679628275103m_7340380357212838586m_7209102309573294263gmail-aQJ"><span class="m_611357823689618794m_-4009785963553047376gmail-aBn"><span class="m_611357823689618794m_-4009785963553047376gmail-aQJ">South Surrey &amp\; White Rock Chamber of Commerce</span></span></span></span></font></span></div>\n\n<div><span style="font-size:11pt\;font-family:calibri\,sans-serif"><span class="m_611357823689618794m_-4009785963553047376gmail-m_-6852769929877171768m_8858371679628275103m_7340380357212838586m_7209102309573294263gmail-aBn"><span class="m_611357823689618794m_-4009785963553047376gmail-m_-6852769929877171768m_8858371679628275103m_7340380357212838586m_7209102309573294263gmail-aQJ"><span class="m_611357823689618794m_-4009785963553047376gmail-aBn"><span class="m_611357823689618794m_-4009785963553047376gmail-aQJ"><span style="font-family:arial\,helvetica\,sans-serif"><font size="2">Tri-Cities Chamber of Commerce<br />\nGreater Vancouver Board of Trade</font></span></span></span></span></span></span></div>\n
LOCATION:Hard Rock Casino Vancouver 2080 United Blvd\, Coquitlam
UID:e.749.5170
SEQUENCE:3
DTSTAMP:20260422T055420Z
URL:https://business.swrbot.com/events/details/january-12-2017-new-year-new-connections-01-12-2017-5170
END:VEVENT

END:VCALENDAR
