BEGIN:VCALENDAR
VERSION:2.0
PRODID:-//ChamberMaster//Event Calendar 2.0//EN
METHOD:PUBLISH
X-PUBLISHED-TTL:P3D
REFRESH-INTERVAL:P3D
CALSCALE:GREGORIAN
BEGIN:VEVENT
DTSTART:20140114T160000Z
DTEND:20140114T180000Z
X-MICROSOFT-CDO-ALLDAYEVENT:FALSE
SUMMARY:January 14\, 2014 - HR for Your Business - PT 3 Discipline Mgmnt
DESCRIPTION:Human Resources for Your Business\n\nPT 3 \n\n\n\nTopic: Discipline Management and the Termination Process - with guest presenter Dan Moseley of McQuarrie Hunter LLP - Discover how to implement and administer a discipline policy and procedure within your business.  Learn about how termination plays a part in the discipline process and the legal aspects you're responsible for.
X-ALT-DESC;FMTTYPE=text/html:<strong>Human Resources for Your Business<br />\nPT 3 </strong><br />\n<br />\n<strong>Topic: Discipline Management and the Termination Process - with guest presenter Dan Moseley of McQuarrie Hunter LLP - </strong>Discover how to implement and administer a discipline policy and procedure within your business.&nbsp\; Learn about how termination plays a part in the discipline process and the legal aspects you&#39\;re responsible for.
LOCATION:Surrey Board of Trade Conference Room 101 - 14439 104th Ave Surrey\, BC
UID:e.749.2379
SEQUENCE:3
DTSTAMP:20260426T022101Z
URL:https://business.swrbot.com/events/details/january-14-2014-hr-for-your-business-pt-3-discipline-mgmnt-01-14-2014-2379
END:VEVENT

END:VCALENDAR
