BEGIN:VCALENDAR
VERSION:2.0
PRODID:-//ChamberMaster//Event Calendar 2.0//EN
METHOD:PUBLISH
X-PUBLISHED-TTL:P3D
REFRESH-INTERVAL:P3D
CALSCALE:GREGORIAN
BEGIN:VEVENT
DTSTART:20180118T010000Z
DTEND:20180118T040000Z
X-MICROSOFT-CDO-ALLDAYEVENT:FALSE
SUMMARY:January 17\, 2018 - New Year's Business Reception
DESCRIPTION:Join us at the Surrey Board of Trade's New Year's Business Reception\n\n\n\nThe Surrey Board of Trade invites you to their office to learn more about:\n\nInternational Trade Centre * Business Centre * Events * Government Advocacy * Membership Value * Advertising and Marketing Opportunities * Surrey Business News Newspaper\n\n\n\nPlus\, hear a special announcement that will take place at this event!\n\n\n\nThis event is brought to you by our Presenting Sponsor Tien Sher Construction Group\, AND Supported by the Sheraton Vancouver Guildford Hotel as our Catering Sponsor.
X-ALT-DESC;FMTTYPE=text/html:<strong>Join us at the Surrey Board of Trade&#39\;s New Year&rsquo\;s Business Reception</strong><br />\n<br />\nThe Surrey Board of Trade invites you to their office to learn more about:<br />\nInternational Trade Centre * Business Centre * Events * Government Advocacy * Membership Value * Advertising and Marketing Opportunities * Surrey Business News Newspaper<br />\n<br />\nPlus\, hear a special announcement that will take place at this event!<br />\n<br />\n<span style="color: rgb(34\, 34\, 34)\; font-family: arial\; font-size: 12px\; background-color: rgb(255\, 255\, 255)\;">This event is brought to you by our&nbsp\;</span><b style="color: rgb(34\, 34\, 34)\; font-family: arial\; font-size: 12px\; background-color: rgb(255\, 255\, 255)\;">Presenting Sponsor Tien Sher Construction Group\, AND Supported by the Sheraton Vancouver Guildford Hotel as our Catering Sponsor.</b>
LOCATION:Surrey Board of Trade Office 101-14439 104 Avenue\, Surrey
UID:e.749.5233
SEQUENCE:3
DTSTAMP:20260421T152702Z
URL:https://business.swrbot.com/events/details/january-17-2018-new-year-s-business-reception-01-17-2018-5233
END:VEVENT

END:VCALENDAR
