BEGIN:VCALENDAR
VERSION:2.0
PRODID:-//ChamberMaster//Event Calendar 2.0//EN
METHOD:PUBLISH
X-PUBLISHED-TTL:P3D
REFRESH-INTERVAL:P3D
CALSCALE:GREGORIAN
BEGIN:VEVENT
DTSTART:20150121T020000Z
DTEND:20150121T040000Z
X-MICROSOFT-CDO-ALLDAYEVENT:FALSE
SUMMARY:January 20\, 2015 - LNG Energy Information Session
DESCRIPTION:LNG Energy Information Session\n\n\n\nFind out more about British Columbia's natural gas sector\n\n\n\n* BC Government staff will be on-hand to answer questions\n\n* LNG-Buy BC representatives to provide information for BC businesses
X-ALT-DESC;FMTTYPE=text/html:LNG Energy Information Session<br />\n<br />\nFind out more about British Columbia&#39\;s natural gas sector<br />\n<br />\n* BC Government staff will be on-hand to answer questions<br />\n* LNG-Buy BC representatives to provide information for BC businesses
LOCATION:Sheraton Vancouver Guildford Hotel 15269 104th Ave Surrey\, BC
UID:e.749.2868
SEQUENCE:3
DTSTAMP:20260425T124127Z
URL:https://business.swrbot.com/events/details/january-20-2015-lng-energy-information-session-01-20-2015-2868
END:VEVENT

END:VCALENDAR
