BEGIN:VCALENDAR
VERSION:2.0
PRODID:-//ChamberMaster//Event Calendar 2.0//EN
METHOD:PUBLISH
X-PUBLISHED-TTL:P3D
REFRESH-INTERVAL:P3D
CALSCALE:GREGORIAN
BEGIN:VEVENT
DTSTART;VALUE=DATE:20100121
DTEND;VALUE=DATE:20100122
TRANSP:TRANSPARENT
X-MICROSOFT-CDO-ALLDAYEVENT:TRUE
SUMMARY:January 21\, '10 - SBOT Open House
DESCRIPTION:
X-ALT-DESC;FMTTYPE=text/html:
LOCATION:
UID:e.749.1569
SEQUENCE:3
DTSTAMP:20260423T035013Z
URL:https://business.swrbot.com/events/details/january-21-10-sbot-open-house-01-21-2010-1569
END:VEVENT

END:VCALENDAR
