BEGIN:VCALENDAR
VERSION:2.0
PRODID:-//ChamberMaster//Event Calendar 2.0//EN
METHOD:PUBLISH
X-PUBLISHED-TTL:P3D
REFRESH-INTERVAL:P3D
CALSCALE:GREGORIAN
BEGIN:VEVENT
DTSTART:20140121T160000Z
DTEND:20140121T180000Z
X-MICROSOFT-CDO-ALLDAYEVENT:FALSE
SUMMARY:January 21\, 2014 - Collaborative Management
DESCRIPTION:Collaborative Management\n\nThe Art of Coaching for Leaders\n\n\n\nThis workshop is designed specifically for organization leaders interested in enhancing their capacity to develop others through effective coaching conversations.  This material is suitable for both senior leaders and individuals assuming a leadership role for the first time!\n\n\n\nAttend this coaching workshop to learn to:\n\n	\n		Navigate through coaching conversation\n	\n		Develop the art of conscience listening\n	\n		Use corrective feedback as a springboard to coaching\n	\n		Explore the art of a question\, and much more!
X-ALT-DESC;FMTTYPE=text/html:<strong>Collaborative Management</strong><br />\nThe Art of Coaching for Leaders<br />\n<br />\nThis workshop is designed specifically for organization leaders interested in enhancing their capacity to develop others through effective coaching conversations.&nbsp\; This material is suitable for both senior leaders and individuals assuming a leadership role for the first time!<br />\n<br />\nAttend this coaching workshop to learn to:\n<ol>\n	<li>\n		<strong>Navigate through coaching conversation</strong></li>\n	<li>\n		<strong>Develop the art of conscience listening</strong></li>\n	<li>\n		<strong>Use corrective feedback as a springboard to coaching</strong></li>\n	<li>\n		<strong>Explore the art of a question\, and much more!</strong></li>\n</ol>\n<br />\n
LOCATION:Surrey Board of Trade Conference Room 101 - 14439 104th Ave Surrey\, BC
UID:e.749.2470
SEQUENCE:3
DTSTAMP:20260426T021741Z
URL:https://business.swrbot.com/events/details/january-21-2014-collaborative-management-01-21-2014-2470
END:VEVENT

END:VCALENDAR
