BEGIN:VCALENDAR
VERSION:2.0
PRODID:-//ChamberMaster//Event Calendar 2.0//EN
METHOD:PUBLISH
X-PUBLISHED-TTL:P3D
REFRESH-INTERVAL:P3D
CALSCALE:GREGORIAN
BEGIN:VEVENT
DTSTART:20150122T010000Z
DTEND:20150122T040000Z
X-MICROSOFT-CDO-ALLDAYEVENT:FALSE
SUMMARY:January 21\, 2015 - New Year's Business Reception
DESCRIPTION:New Year's Business Reception\n\nTheme: Celebrate a new business year!\n\n\n\nThe Surrey Board of Trade invites you to their office to learn more about:\n\nThe International Trade Centre * The Business Resource Centre * Events * Government Advocacy Membership Value * Advertising and Marketing Opportunities * Business in Surrey Newspaper\n\n\n\nBring a non-member guest and be entered in the draw to win a special prize!\n\n\n\nLight refreshments will be served.
X-ALT-DESC;FMTTYPE=text/html:New Year&#39\;s Business Reception<br />\nTheme: Celebrate a new business year!<br />\n<br />\nThe Surrey Board of Trade invites you to their office to learn more about:<br />\nThe International Trade Centre * The Business Resource Centre * Events * Government Advocacy Membership Value * Advertising and Marketing Opportunities * Business in Surrey Newspaper<br />\n<br />\nBring a non-member guest and be entered in the draw to win a special prize!<br />\n<br />\nLight refreshments will be served.&nbsp\;&nbsp\;&nbsp\;&nbsp\;
LOCATION:Surrey Board of Trade Offices 101-14439 104 Avenue Surrey\, BC
UID:e.749.2625
SEQUENCE:3
DTSTAMP:20260425T112242Z
URL:https://business.swrbot.com/events/details/january-21-2015-new-year-s-business-reception-01-21-2015-2625
END:VEVENT

END:VCALENDAR
