BEGIN:VCALENDAR
VERSION:2.0
PRODID:-//ChamberMaster//Event Calendar 2.0//EN
METHOD:PUBLISH
X-PUBLISHED-TTL:P3D
REFRESH-INTERVAL:P3D
CALSCALE:GREGORIAN
BEGIN:VEVENT
DTSTART:20190122T154500Z
DTEND:20190122T180000Z
X-MICROSOFT-CDO-ALLDAYEVENT:FALSE
SUMMARY:January 22\, 2019 - SBOT Workshop: Commercial Property Values and Taxes for Your Business - January 22
DESCRIPTION:Property Tax Workshop\n\n\n\nAre you interestested to learn how BC Assessment values commerical properties in Surrey?  AEC will educate you and provide strategies and advice to manage and minimize your property tax.  We will also provide an update on the other newly introduced Real Estate Taxes and tips on how to avoid!\n\n\n\nFacilitated by: AEC Property Tax Inc.\n\n\nEvent payment is due upon registration. Cancellations for event attendance\, sponsorship\, or exhibitor space will not be refunded. An event registration is considered a commitment to pay. While event registration is non-refundable\, cancellations before three full business days of the event may be eligible for a credit towards a future event. Some exclusions apply.
X-ALT-DESC;FMTTYPE=text/html:<span style="font-size: 14px\;"><b>Property Tax Workshop</b></span><br />\n<br />\n<font color="#222222" face="arial">Are you interestested to learn how BC Assessment values commerical properties in Surrey?&nbsp\; AEC will educate you and provide strategies and advice to manage and minimize your property tax.&nbsp\; We will also provide an update on the other newly introduced Real Estate Taxes and tips on how to avoid!<br />\n<br />\n<strong>Facilitated by: <a href="https://www.aecpropertytax.com/">AEC Property Tax Inc.</a></strong></font>\n<hr /><br />\n<em 1.6="" background-attachment:="" background-clip:="" background-image:="" background-origin:="" background-position:="" background-repeat:="" background-size:="" border-collapse:="" border-radius:="" border:="" box-shadow:="" height:="" helvetica="" left:="" line-height:="" margin:="" max-height:="" max-width:="" min-height:="" min-width:="" opacity:="" outline-offset:="" overflow:="" padding:="" position:="" resize:="" right:="" style="box-sizing: content-box\; bottom: auto\; clear: none\; color: rgb(10\, 10\, 10)\; content: normal\; direction: inherit\; display: inline\; empty-cells: show\; font-variant-numeric: inherit\; font-variant-east-asian: inherit\; font-stretch: inherit\; font-size: 16px\; font-family: Roboto\, Univers\, " table-layout:="" text-overflow:="" top:="" vertical-align:="" visibility:="" width:="" word-break:="" word-wrap:="" z-index:=""><span style="box-sizing: content-box\; bottom: auto\; clear: none\; color: rgb(34\, 34\, 34)\; content: normal\; direction: inherit\; empty-cells: show\; font-style: inherit\; font-variant: inherit\; font-weight: inherit\; font-stretch: inherit\; font-size: small\; font-family: Arial\, Helvetica\, sans-serif\; left: auto\; margin: 0px\; max-height: none\; max-width: none\; min-height: initial\; min-width: initial\; opacity: 1\; outline-offset: 0px\; overflow: visible\; padding: 0px\; position: static\; resize: none\; right: auto\; table-layout: auto\; text-indent: inherit\; text-overflow: clip\; text-transform: inherit\; top: auto\; vertical-align: baseline\; visibility: inherit\; white-space: inherit\; word-break: inherit\; word-spacing: inherit\; word-wrap: inherit\; z-index: auto\; background: none\; border: none\; border-collapse: separate\; border-radius: 0px\; height: auto\; width: auto\; box-shadow: none\; letter-spacing: 0px !important\; line-height: 1.6 !important\;">Event payment is due upon registration. Cancellations for event attendance\, sponsorship\, or exhibitor space will not be refunded. An event registration is considered a commitment to pay. While event registration is non-refundable\, cancellations before three full business days of the event may be eligible for a credit towards a future event. Some exclusions apply.</span></em>
LOCATION:Surrey Board of Trade Conference Room (101-14439\, 104th Ave\, Surrey\, V3R 1M1)
UID:e.749.9942
SEQUENCE:3
DTSTAMP:20260421T015245Z
URL:https://business.swrbot.com/events/details/january-22-2019-sbot-workshop-commercial-property-values-and-taxes-for-your-business-january-22-01-22-2019-9942
END:VEVENT

END:VCALENDAR
