BEGIN:VCALENDAR
VERSION:2.0
PRODID:-//ChamberMaster//Event Calendar 2.0//EN
METHOD:PUBLISH
X-PUBLISHED-TTL:P3D
REFRESH-INTERVAL:P3D
CALSCALE:GREGORIAN
BEGIN:VEVENT
DTSTART:20200123T010000Z
DTEND:20200123T040000Z
X-MICROSOFT-CDO-ALLDAYEVENT:FALSE
SUMMARY:January 22\, 2020 - New Year's Business Reception
DESCRIPTION:Join us at the Surrey Board of Trade's New Year's Business Reception\n\n\n\nThe Surrey Board of Trade invites you to their office to learn more about:\n\nInternational Trade Centre * Business Centre * Events * Government Advocacy * Membership Value * Advertising and Marketing Opportunities * Surrey Business News Newspaper
X-ALT-DESC;FMTTYPE=text/html:<strong>Join us at the Surrey Board of Trade&#39\;s New Year&#39\;s Business Reception</strong><br />\n<br />\nThe Surrey Board of Trade invites you to their office to learn more about:<br />\nInternational Trade Centre * Business Centre * Events * Government Advocacy * Membership Value * Advertising and Marketing Opportunities * Surrey Business News Newspaper
LOCATION:Surrey Board of Trade Office 101-14439 104 Avenue\, Surrey
UID:e.749.10121
SEQUENCE:3
DTSTAMP:20260420T090543Z
URL:https://business.swrbot.com/events/details/january-22-2020-new-year-s-business-reception-01-22-2020-10121
END:VEVENT

END:VCALENDAR
