BEGIN:VCALENDAR
VERSION:2.0
PRODID:-//ChamberMaster//Event Calendar 2.0//EN
METHOD:PUBLISH
X-PUBLISHED-TTL:P3D
REFRESH-INTERVAL:P3D
CALSCALE:GREGORIAN
BEGIN:VEVENT
DTSTART:20170124T020000Z
DTEND:20170124T030000Z
X-MICROSOFT-CDO-ALLDAYEVENT:FALSE
SUMMARY:January 23\, 2017 - Information Session to Explore Dubai and Abu Dhabi
DESCRIPTION:Join the Surrey Board of Trade Global Trip to Dubai and Abu Dhabi on April 3\, 2017. For members only the SBOT has brokered a special rate of just $2995 for a 7 day trip to these two amazing cities. Come travel with the SBOT and explore Dubai and Abu Dhabi with like-minded business professionals and owners. The SBOT has worked diligently to set up industry tours in these cities. We are happy to customize your trip to include key business meetings\, making this eligible for tax deductions. For more information on registering for this trip or other planned global trips please visit our website.
X-ALT-DESC;FMTTYPE=text/html:<span style="font-size:12px"><span style="font-family:arial">Join the Surrey Board of Trade Global Trip to <span class="m_3587503270532564226m_6965452860716816236m_7872458170450798310m_5006878703539844803m_2248361200560292609gmail-m_5401905698564713217gmail-m_855480490501521722m_-3263715066820969208m_-6468776457722365318m_-1816734365931440254m_-4619893626916783981gmail-m_-951338937122436312m_-6799971914144105589gmail-il"><span class="m_3587503270532564226m_6965452860716816236m_7872458170450798310m_5006878703539844803m_2248361200560292609gmail-m_5401905698564713217gmail-il">Dubai</span></span> and <span class="m_3587503270532564226m_6965452860716816236m_7872458170450798310m_5006878703539844803m_2248361200560292609gmail-m_5401905698564713217gmail-m_855480490501521722m_-3263715066820969208m_-6468776457722365318m_-1816734365931440254m_-4619893626916783981gmail-m_-951338937122436312m_-6799971914144105589gmail-il">Abu</span> Dhabi on <span class="m_3587503270532564226m_6965452860716816236m_7872458170450798310m_5006878703539844803m_2248361200560292609gmail-m_5401905698564713217gmail-m_855480490501521722m_-3263715066820969208m_-6468776457722365318m_-1816734365931440254m_-4619893626916783981gmail-m_-951338937122436312m_-6799971914144105589gmail-m_-2717946656840108266m_8609403368409741380m_522401397085585517gmail-m_-6496682375859699384aBn"><span class="m_3587503270532564226m_6965452860716816236m_7872458170450798310m_5006878703539844803m_2248361200560292609gmail-m_5401905698564713217gmail-m_855480490501521722m_-3263715066820969208m_-6468776457722365318m_-1816734365931440254m_-4619893626916783981gmail-m_-951338937122436312m_-6799971914144105589gmail-m_-2717946656840108266m_8609403368409741380m_522401397085585517gmail-m_-6496682375859699384aQJ"><span class="m_3587503270532564226m_6965452860716816236m_7872458170450798310m_5006878703539844803m_2248361200560292609gmail-m_5401905698564713217gmail-m_855480490501521722m_-3263715066820969208m_-6468776457722365318m_-1816734365931440254m_-4619893626916783981gmail-m_-951338937122436312m_-6799971914144105589gmail-m_-2717946656840108266m_8609403368409741380m_522401397085585517gmail-aBn"><span class="m_3587503270532564226m_6965452860716816236m_7872458170450798310m_5006878703539844803m_2248361200560292609gmail-m_5401905698564713217gmail-m_855480490501521722m_-3263715066820969208m_-6468776457722365318m_-1816734365931440254m_-4619893626916783981gmail-m_-951338937122436312m_-6799971914144105589gmail-m_-2717946656840108266m_8609403368409741380m_522401397085585517gmail-aQJ"><span class="m_3587503270532564226m_6965452860716816236m_7872458170450798310m_5006878703539844803m_2248361200560292609gmail-m_5401905698564713217gmail-m_855480490501521722m_-3263715066820969208m_-6468776457722365318m_-1816734365931440254m_-4619893626916783981gmail-m_-951338937122436312m_-6799971914144105589gmail-m_-2717946656840108266m_8609403368409741380aBn"><span class="m_3587503270532564226m_6965452860716816236m_7872458170450798310m_5006878703539844803m_2248361200560292609gmail-m_5401905698564713217gmail-m_855480490501521722m_-3263715066820969208m_-6468776457722365318m_-1816734365931440254m_-4619893626916783981gmail-m_-951338937122436312m_-6799971914144105589gmail-m_-2717946656840108266m_8609403368409741380aQJ"><span class="m_3587503270532564226m_6965452860716816236m_7872458170450798310m_5006878703539844803m_2248361200560292609gmail-m_5401905698564713217gmail-m_855480490501521722m_-3263715066820969208m_-6468776457722365318m_-1816734365931440254m_-4619893626916783981gmail-m_-951338937122436312m_-6799971914144105589gmail-m_-2717946656840108266aBn"><span class="m_3587503270532564226m_6965452860716816236m_7872458170450798310m_5006878703539844803m_2248361200560292609gmail-m_5401905698564713217gmail-m_855480490501521722m_-3263715066820969208m_-6468776457722365318m_-1816734365931440254m_-4619893626916783981gmail-m_-951338937122436312m_-6799971914144105589gmail-m_-2717946656840108266aQJ"><span class="m_3587503270532564226m_6965452860716816236m_7872458170450798310m_5006878703539844803m_2248361200560292609gmail-m_5401905698564713217gmail-m_855480490501521722m_-3263715066820969208m_-6468776457722365318m_-1816734365931440254m_-4619893626916783981gmail-m_-951338937122436312m_-6799971914144105589gmail-aBn"><span class="m_3587503270532564226m_6965452860716816236m_7872458170450798310m_5006878703539844803m_2248361200560292609gmail-m_5401905698564713217gmail-m_855480490501521722m_-3263715066820969208m_-6468776457722365318m_-1816734365931440254m_-4619893626916783981gmail-m_-951338937122436312m_-6799971914144105589gmail-aQJ"><span class="m_3587503270532564226m_6965452860716816236m_7872458170450798310m_5006878703539844803m_2248361200560292609gmail-m_5401905698564713217gmail-m_855480490501521722m_-3263715066820969208m_-6468776457722365318m_-1816734365931440254m_-4619893626916783981gmail-m_-951338937122436312aBn"><span class="m_3587503270532564226m_6965452860716816236m_7872458170450798310m_5006878703539844803m_2248361200560292609gmail-m_5401905698564713217gmail-m_855480490501521722m_-3263715066820969208m_-6468776457722365318m_-1816734365931440254m_-4619893626916783981gmail-m_-951338937122436312aQJ"><span class="m_3587503270532564226m_6965452860716816236m_7872458170450798310m_5006878703539844803m_2248361200560292609gmail-m_5401905698564713217gmail-m_855480490501521722aBn"><span class="m_3587503270532564226m_6965452860716816236m_7872458170450798310m_5006878703539844803m_2248361200560292609gmail-m_5401905698564713217gmail-m_855480490501521722aQJ"><span class="aBn" data-term="goog_61781241" tabindex="0"><span class="aQJ">April 3\, 2017</span></span></span></span></span></span></span></span></span></span></span></span></span></span></span></span>. For members only the SBOT has brokered a special rate of just $2995 for a 7 day trip to these two amazing cities. Come travel with the SBOT and explore <span class="m_3587503270532564226m_6965452860716816236m_7872458170450798310m_5006878703539844803m_2248361200560292609gmail-m_5401905698564713217gmail-m_855480490501521722m_-3263715066820969208m_-6468776457722365318m_-1816734365931440254m_-4619893626916783981gmail-m_-951338937122436312m_-6799971914144105589gmail-il"><span class="m_3587503270532564226m_6965452860716816236m_7872458170450798310m_5006878703539844803m_2248361200560292609gmail-m_5401905698564713217gmail-il">Dubai</span></span> and <span class="m_3587503270532564226m_6965452860716816236m_7872458170450798310m_5006878703539844803m_2248361200560292609gmail-m_5401905698564713217gmail-m_855480490501521722m_-3263715066820969208m_-6468776457722365318m_-1816734365931440254m_-4619893626916783981gmail-m_-951338937122436312m_-6799971914144105589gmail-il">Abu</span> Dhabi with like-minded business professionals and owners. The SBOT has worked diligently to set up industry tours in these cities. We are happy to customize your trip to include <b>key business meetings</b>\, making this eligible for tax deductions. For more information on registering for this trip or other planned global trips please visit <a data-saferedirecturl="https://www.google.com/url?hl=en&amp\;q=http://businessinsurrey.com/international/global-trips/&amp\;source=gmail&amp\;ust=1480463060389000&amp\;usg=AFQjCNERRi-eAo8dkY96tqcN0K1azK0pJg" href="http://businessinsurrey.com/international/global-trips/" target="_blank">our website</a>.</span></span>
LOCATION:Surrey Board of Trade Board Room 101\, 14439 104th Avenue\, Surrey
UID:e.749.5206
SEQUENCE:3
DTSTAMP:20260422T055420Z
URL:https://business.swrbot.com/events/details/january-23-2017-information-session-to-explore-dubai-and-abu-dhabi-01-23-2017-5206
END:VEVENT

END:VCALENDAR
