BEGIN:VCALENDAR
VERSION:2.0
PRODID:-//ChamberMaster//Event Calendar 2.0//EN
METHOD:PUBLISH
X-PUBLISHED-TTL:P3D
REFRESH-INTERVAL:P3D
CALSCALE:GREGORIAN
BEGIN:VEVENT
DTSTART:20190124T010000Z
DTEND:20190124T040000Z
X-MICROSOFT-CDO-ALLDAYEVENT:FALSE
SUMMARY:January 23\, 2019 - New Year's Business Reception
DESCRIPTION:Join us at the Surrey Board of Trade's New Year's Business Reception\n\n\n\nThe Surrey Board of Trade invites you to their office to learn more about:\n\nInternational Trade Centre * Business Centre * Events * Government Advocacy * Membership Value * Advertising and Marketing Opportunities * Surrey Business News Newspaper\n\n \n\n\nEvent payment is due upon registration. Cancellations for event attendance\, sponsorship\, or exhibitor space will not be refunded. An event registration is considered a commitment to pay. While event registration is non-refundable\, cancellations before three full business days of the event may be eligible for a credit towards a future event. Some exclusions apply.
X-ALT-DESC;FMTTYPE=text/html:<strong>Join us at the Surrey Board of Trade&#39\;s New Year&rsquo\;s Business Reception</strong><br />\n<br />\nThe Surrey Board of Trade invites you to their office to learn more about:<br />\nInternational Trade Centre * Business Centre * Events * Government Advocacy * Membership Value * Advertising and Marketing Opportunities * Surrey Business News Newspaper<br />\n&nbsp\;\n<hr /><br />\n<em style="box-sizing: content-box\; bottom: auto\; clear: none\; color: rgb(10\, 10\, 10)\; content: normal\; direction: inherit\; display: inline\; empty-cells: show\; font-variant-numeric: inherit\; font-variant-east-asian: inherit\; font-stretch: inherit\; font-size: 16px\; font-family: Roboto\, Univers\, &quot\;Helvetica Neue&quot\;\, Helvetica\, Arial\, sans-serif\; left: auto\; margin: 0px\; max-height: none\; max-width: none\; min-height: initial\; min-width: initial\; opacity: 1\; outline-offset: 0px\; overflow: visible\; padding: 0px\; position: static\; resize: none\; right: auto\; table-layout: auto\; text-overflow: clip\; top: auto\; vertical-align: baseline\; visibility: inherit\; word-break: inherit\; word-wrap: inherit\; z-index: auto\; background-image: none\; background-position: initial\; background-size: initial\; background-repeat: initial\; background-attachment: initial\; background-origin: initial\; background-clip: initial\; border: none\; border-collapse: separate\; border-radius: 0px\; height: auto\; width: auto\; box-shadow: none\; line-height: 1.6 !important\;"><span style="box-sizing: content-box\; bottom: auto\; clear: none\; color: rgb(34\, 34\, 34)\; content: normal\; direction: inherit\; empty-cells: show\; font-style: inherit\; font-variant: inherit\; font-weight: inherit\; font-stretch: inherit\; font-size: small\; font-family: Arial\, Helvetica\, sans-serif\; left: auto\; margin: 0px\; max-height: none\; max-width: none\; min-height: initial\; min-width: initial\; opacity: 1\; outline-offset: 0px\; overflow: visible\; padding: 0px\; position: static\; resize: none\; right: auto\; table-layout: auto\; text-indent: inherit\; text-overflow: clip\; text-transform: inherit\; top: auto\; vertical-align: baseline\; visibility: inherit\; white-space: inherit\; word-break: inherit\; word-spacing: inherit\; word-wrap: inherit\; z-index: auto\; background: none\; border: none\; border-collapse: separate\; border-radius: 0px\; height: auto\; width: auto\; box-shadow: none\; letter-spacing: 0px !important\; line-height: 1.6 !important\;">Event payment is due upon registration. Cancellations for event attendance\, sponsorship\, or exhibitor space will not be refunded. An event registration is considered a commitment to pay. While event registration is non-refundable\, cancellations before three full business days of the event may be eligible for a credit towards a future event. Some exclusions apply.</span></em><br />\n&nbsp\;
LOCATION:Surrey Board of Trade Office 101-14439 104 Avenue\, Surrey
UID:e.749.6691
SEQUENCE:3
DTSTAMP:20260421T002527Z
URL:https://business.swrbot.com/events/details/january-23-2019-new-year-s-business-reception-01-23-2019-6691
END:VEVENT

END:VCALENDAR
