BEGIN:VCALENDAR
VERSION:2.0
PRODID:-//ChamberMaster//Event Calendar 2.0//EN
METHOD:PUBLISH
X-PUBLISHED-TTL:P3D
REFRESH-INTERVAL:P3D
CALSCALE:GREGORIAN
BEGIN:VEVENT
DTSTART:20180124T154500Z
DTEND:20180124T180000Z
X-MICROSOFT-CDO-ALLDAYEVENT:FALSE
SUMMARY:January 24\, 2018 - Own your Inbox: Manage Email Like an Expert! - Workshop
DESCRIPTION:Are you spending too much time with email? Does a typical day sound something like this: write\, read\, reply\, and repeat? It's time to take control of your inbox and start handling your email like a productivity expert. In this hands-on session\, participants will learn how to keep messages organized and easy to manage. From processing emails more quickly to setting up automated follow-ups\, this presentation will make you the master of your inbox.\n\nParticipants will learn:\n\n\n	How to reduce the time spent checking email\n	Processes to keep your inbox clean and efficient\n	How to achieve inbox zero on a regular basis\n	Techniques to avoid email distractions and inbox clutter\n	How to create automated rules and follow-up reminders\n\n\n \n\nThis workshop is facilitated by Scott Friesen\, founder of Simpletivity training and consulting.\n\nScott Friesen is not too busy. He's productive. There's a difference. He is also the founder of Simpletivity training and consulting.\n\n\n\nAs a 'busyness killer'\,'Scott helps people from all over the world improve their productivity. His time management techniques have benefited thousands of individuals and organizations alike. Managing email overload\, never-ending to-do lists\, and technology distractions are among Scott's specialties. \n\n\n\nThrough speeches\, courses\, and workshops\, Scott provides powerful tools to those who want more out of their day. He has dedicated his life to helping others focus on what is most important and to do it with less stress. Because being too busy isn't productive.
X-ALT-DESC;FMTTYPE=text/html:<p><span style="font-size:12px\;"><span style="font-family: arial\;"><font color="#000000">Are you spending too much time with email? Does a typical day sound something like this: write\, read\, reply\, and repeat? It&rsquo\;s time to take control of your inbox and start handling your email like a productivity expert. In this hands-on session\, participants will learn how to keep messages organized and easy to manage. From processing emails more quickly to setting up automated follow-ups\, this presentation will make you the master of your inbox.</font></span></span></p>\n\n<p><span style="font-size:12px\;"><span style="font-family: arial\;"><strong style="font-family:Arial"><font color="#000000">Participants will learn:</font></strong></span></span></p>\n\n<ul style="padding:0px 0px 0px 3em\;font-family:Arial\;margin:5px 0px\;list-style-position:outside">\n	<li style="padding:0px 0px 0px 5px\;margin:3px 0px 0px\;list-style:disc outside"><span style="font-size:12px\;"><span style="font-family: arial\;"><font color="#000000">How to reduce the time spent checking email</font></span></span></li>\n	<li style="padding:0px 0px 0px 5px\;margin:3px 0px 0px\;list-style:disc outside"><span style="font-size:12px\;"><span style="font-family: arial\;"><font color="#000000">Processes to keep your inbox clean and efficient</font></span></span></li>\n	<li style="padding:0px 0px 0px 5px\;margin:3px 0px 0px\;list-style:disc outside"><span style="font-size:12px\;"><span style="font-family: arial\;"><font color="#000000">How to achieve inbox zero on a regular basis</font></span></span></li>\n	<li style="padding:0px 0px 0px 5px\;margin:3px 0px 0px\;list-style:disc outside"><span style="font-size:12px\;"><span style="font-family: arial\;"><font color="#000000">Techniques to avoid email distractions and inbox clutter</font></span></span></li>\n	<li style="padding: 0px 0px 0px 5px\; margin: 3px 0px 0px\; list-style: outside none disc\;"><span style="font-size:12px\;"><span style="font-family: arial\;"><font color="#000000">How to create automated rules and follow-up reminder</font></span></span>s</li>\n</ul>\n\n<div style="padding: 0px 0px 0px 5px\; margin: 3px 0px 0px\; list-style: outside none disc\;">&nbsp\;</div>\n\n<p style="font-weight:400\;line-height:16px\;margin:0px 0px 10px\;padding:0px\;text-align:left"><span style="font-size:12px\;"><span style="font-family: arial\;"><font color="#000000"><span style="box-sizing: content-box\; font-weight: bolder\; clear: none\; direction: inherit\; empty-cells: show\; font-variant-numeric: inherit\; font-stretch: inherit\; margin: 0px\; max-height: none\; max-width: none\; min-height: initial\; min-width: initial\; opacity: 1\; overflow: visible\; padding: 0px\; table-layout: auto\; text-overflow: clip\; vertical-align: baseline\; word-break: inherit\; overflow-wrap: inherit\; background-image: none\; background-position: initial\; background-size: initial\; background-repeat: initial\; background-origin: initial\; background-clip: initial\; border: medium none\; border-collapse: separate\; border-radius: 0px\; height: auto\; width: auto\; line-height: 1.6\;">This workshop is facilitated by Scott Friesen\, founder of&nbsp\;<a data-saferedirecturl="https://www.google.com/url?hl=en&amp\;q=https://www.simpletivity.com/&amp\;source=gmail&amp\;ust=1511038588403000&amp\;usg=AFQjCNHo-I2s5Vb3cQYftGP12sSvxU1_fw" href="https://www.simpletivity.com/" style="box-sizing:content-box\;background:none\;clear:none\;direction:inherit\;display:inline\;empty-cells:show\;float:none\;font-style:inherit\;font-variant:inherit\;font-weight:inherit\;font-stretch:inherit\;margin:0px\;max-height:none\;max-width:none\;min-height:initial\;min-width:initial\;opacity:1\;overflow:visible\;padding:0px\;table-layout:auto\;text-indent:inherit\;text-overflow:clip\;text-transform:inherit\;vertical-align:baseline\;white-space:inherit\;word-break:inherit\;word-spacing:inherit\;word-wrap:break-word\;border:none\;border-collapse:separate\;border-radius:0px\;height:auto\;width:auto\;line-height:1.6\;letter-spacing:0px" target="_blank">Simpletivity&nbsp\;training and consulting</a>.</span></font></span></span></p>\n\n<p style="box-sizing:content-box\;line-height:28px\;margin:0px\;padding:0px\;clear:none\;direction:inherit\;empty-cells:show\;float:none\;font-variant-numeric:inherit\;font-stretch:inherit\;max-height:none\;max-width:none\;min-height:initial\;min-width:initial\;opacity:1\;overflow:visible\;table-layout:auto\;text-overflow:clip\;vertical-align:baseline\;word-break:inherit\;word-wrap:inherit\;background-image:initial\;background-position:0px 0px\;background-size:initial\;background-repeat:initial\;background-origin:initial\;background-clip:initial\;border:0px\;border-collapse:separate\;border-radius:0px\;height:auto\;width:auto\;outline:0px"><span style="font-size:12px\;"><span style="font-family: arial\;"><font color="#000000"><em style="box-sizing:content-box\;clear:none\;direction:inherit\;display:inline\;empty-cells:show\;float:none\;font-variant:inherit\;font-weight:inherit\;font-stretch:inherit\;margin:0px\;max-height:none\;max-width:none\;min-height:initial\;min-width:initial\;opacity:1\;overflow:visible\;padding:0px\;table-layout:auto\;text-indent:inherit\;text-overflow:clip\;text-transform:inherit\;vertical-align:baseline\;white-space:inherit\;word-break:inherit\;word-spacing:inherit\;word-wrap:inherit\;background:none\;border:none\;border-collapse:separate\;border-radius:0px\;height:auto\;width:auto\;line-height:1.6\;letter-spacing:0px"><span style="box-sizing: content-box\; clear: none\; direction: inherit\; empty-cells: show\; font-style: inherit\; font-variant: inherit\; font-weight: inherit\; font-stretch: inherit\; margin: 0px\; max-height: none\; max-width: none\; min-height: initial\; min-width: initial\; opacity: 1\; overflow: visible\; padding: 0px\; table-layout: auto\; text-indent: inherit\; text-overflow: clip\; text-transform: inherit\; vertical-align: baseline\; white-space: inherit\; word-break: inherit\; word-spacing: inherit\; overflow-wrap: inherit\; background: rgba(0\, 0\, 0\, 0) none repeat scroll 0% 0%\; border: medium none\; border-collapse: separate\; border-radius: 0px\; height: auto\; width: auto\; letter-spacing: 0px\; line-height: 1.6\;"><span style="box-sizing: content-box\; clear: none\; direction: inherit\; empty-cells: show\; font-style: inherit\; font-variant: inherit\; font-weight: inherit\; font-stretch: inherit\; margin: 0px\; max-height: none\; max-width: none\; min-height: initial\; min-width: initial\; opacity: 1\; overflow: visible\; padding: 0px\; table-layout: auto\; text-indent: inherit\; text-overflow: clip\; text-transform: inherit\; vertical-align: baseline\; white-space: inherit\; word-break: inherit\; word-spacing: inherit\; overflow-wrap: inherit\; background-image: none\; background-position: initial\; background-size: initial\; background-repeat: initial\; background-origin: initial\; background-clip: initial\; border: medium none\; border-collapse: separate\; border-radius: 0px\; height: auto\; width: auto\; letter-spacing: 0px\; line-height: 1.6\;"><span style="box-sizing: content-box\; clear: none\; direction: inherit\; empty-cells: show\; font-style: inherit\; font-variant: inherit\; font-weight: inherit\; font-stretch: inherit\; margin: 0px\; max-height: none\; max-width: none\; min-height: initial\; min-width: initial\; opacity: 1\; overflow: visible\; padding: 0px\; table-layout: auto\; text-indent: inherit\; text-overflow: clip\; text-transform: inherit\; vertical-align: baseline\; white-space: inherit\; word-break: inherit\; word-spacing: inherit\; overflow-wrap: inherit\; background: rgba(0\, 0\, 0\, 0) none repeat scroll 0% 0%\; border: medium none\; border-collapse: separate\; border-radius: 0px\; height: auto\; width: auto\; letter-spacing: 0px\; line-height: 1.6\;">Scott Friesen is not too busy. He&rsquo\;s productive. There&rsquo\;s a difference. He is also the founder of Simpletivity&nbsp\;</span></span></span></em><span style="box-sizing: content-box\; clear: none\; direction: inherit\; empty-cells: show\; font-style: inherit\; font-variant: inherit\; font-weight: inherit\; font-stretch: inherit\; margin: 0px\; max-height: none\; max-width: none\; min-height: initial\; min-width: initial\; opacity: 1\; overflow: visible\; padding: 0px\; table-layout: auto\; text-indent: inherit\; text-overflow: clip\; text-transform: inherit\; vertical-align: baseline\; white-space: inherit\; word-break: inherit\; word-spacing: inherit\; overflow-wrap: inherit\; background: rgba(0\, 0\, 0\, 0) none repeat scroll 0% 0%\; border: medium none\; border-collapse: separate\; border-radius: 0px\; height: auto\; width: auto\; letter-spacing: 0px\; line-height: 1.6\;"><em style="box-sizing:content-box\;clear:none\;direction:inherit\;display:inline\;empty-cells:show\;float:none\;font-variant:inherit\;font-weight:inherit\;font-stretch:inherit\;margin:0px\;max-height:none\;max-width:none\;min-height:initial\;min-width:initial\;opacity:1\;overflow:visible\;padding:0px\;table-layout:auto\;text-indent:inherit\;text-overflow:clip\;text-transform:inherit\;vertical-align:baseline\;white-space:inherit\;word-break:inherit\;word-spacing:inherit\;word-wrap:inherit\;background:none\;border:none\;border-collapse:separate\;border-radius:0px\;height:auto\;width:auto\;line-height:1.6\;letter-spacing:0px"><span style="box-sizing: content-box\; clear: none\; direction: inherit\; empty-cells: show\; font-style: inherit\; font-variant: inherit\; font-weight: inherit\; font-stretch: inherit\; margin: 0px\; max-height: none\; max-width: none\; min-height: initial\; min-width: initial\; opacity: 1\; overflow: visible\; padding: 0px\; table-layout: auto\; text-indent: inherit\; text-overflow: clip\; text-transform: inherit\; vertical-align: baseline\; white-space: inherit\; word-break: inherit\; word-spacing: inherit\; overflow-wrap: inherit\; background: rgba(0\, 0\, 0\, 0) none repeat scroll 0% 0%\; border: medium none\; border-collapse: separate\; border-radius: 0px\; height: auto\; width: auto\; letter-spacing: 0px\; line-height: 1.6\;"><span style="box-sizing: content-box\; clear: none\; direction: inherit\; empty-cells: show\; font-style: inherit\; font-variant: inherit\; font-weight: inherit\; font-stretch: inherit\; margin: 0px\; max-height: none\; max-width: none\; min-height: initial\; min-width: initial\; opacity: 1\; overflow: visible\; padding: 0px\; table-layout: auto\; text-indent: inherit\; text-overflow: clip\; text-transform: inherit\; vertical-align: baseline\; white-space: inherit\; word-break: inherit\; word-spacing: inherit\; overflow-wrap: inherit\; background-image: none\; background-position: initial\; background-size: initial\; background-repeat: initial\; background-origin: initial\; background-clip: initial\; border: medium none\; border-collapse: separate\; border-radius: 0px\; height: auto\; width: auto\; letter-spacing: 0px\; line-height: 1.6\;">training and consulting.</span><br />\n<br style="box-sizing:content-box\;clear:none\;direction:inherit\;display:inline\;empty-cells:show\;float:none\;font-style:inherit\;font-variant:inherit\;font-weight:inherit\;font-stretch:inherit\;margin:0px\;max-height:none\;max-width:none\;min-height:initial\;min-width:initial\;opacity:1\;overflow:visible\;padding:0px\;table-layout:auto\;text-indent:inherit\;text-overflow:clip\;text-transform:inherit\;vertical-align:baseline\;white-space:inherit\;word-break:inherit\;word-spacing:inherit\;word-wrap:inherit\;background-image:none\;background-position:initial\;background-size:initial\;background-repeat:initial\;background-origin:initial\;background-clip:initial\;border:none\;border-collapse:separate\;border-radius:0px\;height:auto\;width:auto\;letter-spacing:0px\;line-height:1.6" />\n<span style="box-sizing: content-box\; clear: none\; direction: inherit\; empty-cells: show\; font-style: inherit\; font-variant: inherit\; font-weight: inherit\; font-stretch: inherit\; margin: 0px\; max-height: none\; max-width: none\; min-height: initial\; min-width: initial\; opacity: 1\; overflow: visible\; padding: 0px\; table-layout: auto\; text-indent: inherit\; text-overflow: clip\; text-transform: inherit\; vertical-align: baseline\; white-space: inherit\; word-break: inherit\; word-spacing: inherit\; overflow-wrap: inherit\; background-image: none\; background-position: initial\; background-size: initial\; background-repeat: initial\; background-origin: initial\; background-clip: initial\; border: medium none\; border-collapse: separate\; border-radius: 0px\; height: auto\; width: auto\; letter-spacing: 0px\; line-height: 1.6\;">As a &#39\;busyness killer&#39\;\,&#39\;</span></span></em></span><em style="box-sizing:content-box\;clear:none\;direction:inherit\;display:inline\;empty-cells:show\;float:none\;font-variant:inherit\;font-weight:inherit\;font-stretch:inherit\;margin:0px\;max-height:none\;max-width:none\;min-height:initial\;min-width:initial\;opacity:1\;overflow:visible\;padding:0px\;table-layout:auto\;text-indent:inherit\;text-overflow:clip\;text-transform:inherit\;vertical-align:baseline\;white-space:inherit\;word-break:inherit\;word-spacing:inherit\;word-wrap:inherit\;background:none\;border:none\;border-collapse:separate\;border-radius:0px\;height:auto\;width:auto\;line-height:1.6\;letter-spacing:0px"><span style="box-sizing: content-box\; clear: none\; direction: inherit\; empty-cells: show\; font-style: inherit\; font-variant: inherit\; font-weight: inherit\; font-stretch: inherit\; margin: 0px\; max-height: none\; max-width: none\; min-height: initial\; min-width: initial\; opacity: 1\; overflow: visible\; padding: 0px\; table-layout: auto\; text-indent: inherit\; text-overflow: clip\; text-transform: inherit\; vertical-align: baseline\; white-space: inherit\; word-break: inherit\; word-spacing: inherit\; overflow-wrap: inherit\; background-image: none\; background-position: initial\; background-size: initial\; background-repeat: initial\; background-origin: initial\; background-clip: initial\; border: medium none\; border-collapse: separate\; border-radius: 0px\; height: auto\; width: auto\; letter-spacing: 0px\; line-height: 1.6\;">Scott helps people from all over the world improve their productivity. His time management techniques have benefited thousands of individuals and organizations alike. Managing email overload\, never-ending to-do lists\, and technology distractions are among Scott&rsquo\;s specialties.&nbsp\;</span><br style="box-sizing:content-box\;clear:none\;direction:inherit\;display:inline\;empty-cells:show\;float:none\;font-style:inherit\;font-variant:inherit\;font-weight:inherit\;font-stretch:inherit\;margin:0px\;max-height:none\;max-width:none\;min-height:initial\;min-width:initial\;opacity:1\;overflow:visible\;padding:0px\;table-layout:auto\;text-indent:inherit\;text-overflow:clip\;text-transform:inherit\;vertical-align:baseline\;white-space:inherit\;word-break:inherit\;word-spacing:inherit\;word-wrap:inherit\;background:none\;border:none\;border-collapse:separate\;border-radius:0px\;height:auto\;width:auto\;letter-spacing:0px\;line-height:1.6" />\n<br style="box-sizing:content-box\;clear:none\;direction:inherit\;display:inline\;empty-cells:show\;float:none\;font-style:inherit\;font-variant:inherit\;font-weight:inherit\;font-stretch:inherit\;margin:0px\;max-height:none\;max-width:none\;min-height:initial\;min-width:initial\;opacity:1\;overflow:visible\;padding:0px\;table-layout:auto\;text-indent:inherit\;text-overflow:clip\;text-transform:inherit\;vertical-align:baseline\;white-space:inherit\;word-break:inherit\;word-spacing:inherit\;word-wrap:inherit\;background-image:none\;background-position:initial\;background-size:initial\;background-repeat:initial\;background-origin:initial\;background-clip:initial\;border:none\;border-collapse:separate\;border-radius:0px\;height:auto\;width:auto\;letter-spacing:0px\;line-height:1.6" />\n<span style="box-sizing: content-box\; clear: none\; direction: inherit\; empty-cells: show\; font-style: inherit\; font-variant: inherit\; font-weight: inherit\; font-stretch: inherit\; margin: 0px\; max-height: none\; max-width: none\; min-height: initial\; min-width: initial\; opacity: 1\; overflow: visible\; padding: 0px\; table-layout: auto\; text-indent: inherit\; text-overflow: clip\; text-transform: inherit\; vertical-align: baseline\; white-space: inherit\; word-break: inherit\; word-spacing: inherit\; overflow-wrap: inherit\; background-image: none\; background-position: initial\; background-size: initial\; background-repeat: initial\; background-origin: initial\; background-clip: initial\; border: medium none\; border-collapse: separate\; border-radius: 0px\; height: auto\; width: auto\; letter-spacing: 0px\; line-height: 1.6\;"><font style="box-sizing:border-box\;letter-spacing:0px\;line-height:1.6"><span style="box-sizing: content-box\; clear: none\; direction: inherit\; empty-cells: show\; font-style: inherit\; font-variant: inherit\; font-weight: inherit\; font-stretch: inherit\; margin: 0px\; max-height: none\; max-width: none\; min-height: initial\; min-width: initial\; opacity: 1\; overflow: visible\; padding: 0px\; table-layout: auto\; text-indent: inherit\; text-overflow: clip\; text-transform: inherit\; vertical-align: baseline\; white-space: inherit\; word-break: inherit\; word-spacing: inherit\; overflow-wrap: inherit\; background: rgba(0\, 0\, 0\, 0) none repeat scroll 0% 0%\; border: medium none\; border-collapse: separate\; border-radius: 0px\; height: auto\; width: auto\; letter-spacing: 0px\; line-height: 1.6\;">Through speeches\, courses\, and workshops\, Scott provides powerful tools to those who want more out of their day. He has dedicated his life to helping others focus on what is most important and to do it with less stress. Because being too busy isn&#39\;t productive. &nbsp\;</span></font></span></em></font></span></span></p>\n
LOCATION:Surrey Board of Trade Conference Room (101-14439 104 Avenue\, Surrey)
UID:e.749.5575
SEQUENCE:3
DTSTAMP:20260421T152628Z
URL:https://business.swrbot.com/events/details/january-24-2018-own-your-inbox-manage-email-like-an-expert-workshop-01-24-2018-5575
END:VEVENT

END:VCALENDAR
