BEGIN:VCALENDAR
VERSION:2.0
PRODID:-//ChamberMaster//Event Calendar 2.0//EN
METHOD:PUBLISH
X-PUBLISHED-TTL:P3D
REFRESH-INTERVAL:P3D
CALSCALE:GREGORIAN
BEGIN:VEVENT
DTSTART:20170125T154500Z
DTEND:20170125T180000Z
X-MICROSOFT-CDO-ALLDAYEVENT:FALSE
SUMMARY:January 25\, 2017 - Interpreting Body Language Effectively in Our Fast-Paced World
DESCRIPTION:Start your New Year Resolutions off right with this Master Your Communication Skills Workshop Series. Beginning January 25th\, this three part series will refine your skills to make you a master communicator to help you take your business to the next level. Communicating effectively is a fundamental skill for everyone. \n\n\nThis series is presented by Margaret Page of Beyond the Page Coaching & Training Ltd. With more than thirty years of success as an entrepreneur and business leader\, Margaret Page draws on a wealth of insight\, experience and education.\n\n\nSession 1: Interpreting Body Language Effectively in Our Fast-Paced World\n\nWednesday\, January 25\, 2017\n\nThe mouth can be used to tell the truth or lie. The body\, however\, is always honest. We express so much through our body postures\, gestures\, eye movements\, facial expressions\, touch\, and physical movements. Learn how to use body language for better interpersonal communication\, negotiation\, and more.
X-ALT-DESC;FMTTYPE=text/html:<span style="font-family:arial\,helvetica\,sans-serif"><font size="2">Start your New Year Resolutions off right with this Master Your Communication Skills Workshop Series. Beginning <span class="aBn" data-term="goog_1653197931" tabindex="0"><span class="aQJ">January 25th</span></span>\, this three part series will refine your skills to make you a master communicator to help you take your business to the next level. Communicating effectively is a fundamental skill for everyone. </font></span>\n<div><br />\n<em><strong><span style="font-family:arial\,helvetica\,sans-serif\;"><span style="font-size:small\;">This series is presented by Margaret Page of Beyond the Page Coaching &amp\; Training Ltd. With more than thirty years of success as an entrepreneur and business leader\, Margaret Page draws on a wealth of insight\, experience and education.</span></span></strong></em></div>\n<br />\n<span style="font-family:arial\,helvetica\,sans-serif\;"><span style="font-size:small\;"><strong>Session 1: Interpreting Body Language Effectively in Our Fast-Paced World</strong><br />\n<strong><span data-term="goog_1653197934" tabindex="0">Wednesday\, January 25\, 2017</span></strong></span></span><br />\n<span style="font-family:arial\,helvetica\,sans-serif\;"><span style="font-size:small\;">The mouth can be used to tell the truth or lie. The body\, however\, is always honest. We<span style="color:#262626\;"> express so much through our body postures\, gestures\, eye movements\, facial expressions\, touch\, and physical movements. Learn how to use body language for better interpersonal communication\, negotiation\, and more. </span></span></span>
LOCATION:Surrey Board of Trade (101-14439 104 Avenue\, Surrey)
UID:e.749.5185
SEQUENCE:3
DTSTAMP:20260422T055321Z
URL:https://business.swrbot.com/events/details/january-25-2017-interpreting-body-language-effectively-in-our-fast-paced-world-01-25-2017-5185
END:VEVENT

END:VCALENDAR
