BEGIN:VCALENDAR
VERSION:2.0
PRODID:-//ChamberMaster//Event Calendar 2.0//EN
METHOD:PUBLISH
X-PUBLISHED-TTL:P3D
REFRESH-INTERVAL:P3D
CALSCALE:GREGORIAN
BEGIN:VEVENT
DTSTART:20140128T160000Z
DTEND:20140128T180000Z
X-MICROSOFT-CDO-ALLDAYEVENT:FALSE
SUMMARY:January 28\, 2014 - Energy Savings for Business
DESCRIPTION:Energy Savings for Business\n\n\n\nLearn how to save energy and make your business more environmentally sustainable.  You'll discover where you use the most energy and steps you can take to reduce waste.  Plus\, We'll tell you about available rebates for the energy efficiency upgrades that are right for your business
X-ALT-DESC;FMTTYPE=text/html:Energy Savings for Business<br />\n<br />\nLearn how to save energy and make your business more environmentally sustainable.&nbsp\; You&#39\;ll discover where you use the most energy and steps you can take to reduce waste.&nbsp\; Plus\, We&#39\;ll tell you about available rebates for the energy efficiency upgrades that are right for your business&nbsp\;&nbsp\;&nbsp\; 
LOCATION:Surrey Board of Trade Conference Room 101 - 14439 104th Ave Surrey\, BC
UID:e.749.2479
SEQUENCE:3
DTSTAMP:20260426T022013Z
URL:https://business.swrbot.com/events/details/january-28-2014-energy-savings-for-business-01-28-2014-2479
END:VEVENT

END:VCALENDAR
