BEGIN:VCALENDAR
VERSION:2.0
PRODID:-//ChamberMaster//Event Calendar 2.0//EN
METHOD:PUBLISH
X-PUBLISHED-TTL:P3D
REFRESH-INTERVAL:P3D
CALSCALE:GREGORIAN
BEGIN:VEVENT
DTSTART:20140130T013000Z
DTEND:20140130T033000Z
X-MICROSOFT-CDO-ALLDAYEVENT:FALSE
SUMMARY:January 29\, 2014 - Business to Business Reception - at the South Asian Health Ct
DESCRIPTION:Business to Business Reception at The South Asian Health Centre\n\n\n\nNetwork with your fellow members\, enjoy light food and refreshments\, and learn more about the new South Asian Health Centre!\n\n \n\nThis new facility will provide culturally tailored services for the South Asian community in the area of family and specialty medicine.  A partnership between the Surrey-North Delta Division of Family Practice and Fraser Health\, this initiative was spearheaded and developed by a group of local family physicians.
X-ALT-DESC;FMTTYPE=text/html:<strong>Business to Business Reception at The South Asian Health Centre</strong><br />\n<br />\n<span style="font-family:arial\;"><span style="font-size:10.0pt\;">Network with your fellow members\, enjoy light food and refreshments\, and learn more about the new South Asian Health Centre!</span></span><br />\n&nbsp\;<br />\n<span style="font-family:arial\;"><span style="font-size:10.0pt\;">This new facility will provide culturally tailored services for the South Asian community in the area of family and specialty medicine.&nbsp\; A partnership between the Surrey-North Delta Division of Family Practice and Fraser Health\, this initiative was spearheaded and developed by a group of local family physicians. </span></span><br />\n
LOCATION:The South Asian Health Centre 6830 King George Boulevard Surrey\, BC
UID:e.749.2505
SEQUENCE:3
DTSTAMP:20260426T022125Z
URL:https://business.swrbot.com/events/details/january-29-2014-business-to-business-reception-at-the-south-asian-health-ct-01-29-2014-2505
END:VEVENT

END:VCALENDAR
