BEGIN:VCALENDAR
VERSION:2.0
PRODID:-//ChamberMaster//Event Calendar 2.0//EN
METHOD:PUBLISH
X-PUBLISHED-TTL:P3D
REFRESH-INTERVAL:P3D
CALSCALE:GREGORIAN
BEGIN:VEVENT
DTSTART:20190129T153000Z
DTEND:20190129T173000Z
X-MICROSOFT-CDO-ALLDAYEVENT:FALSE
SUMMARY:January 29\, 2019 - RCMP or Municipal Police Dialogue
DESCRIPTION:Surrey is looking at transitioning to a municipal police force from the current RCMP. What would have better outcomes regarding public safety?\n\n\n\nParticipate in the Surrey Hot Topic Dialogue to learn more about:\n\n	What would have better outcomes regarding public safety\n	The costs and benefits of a municipal police force\n	The costs and benefits of keeping the RCMP\n	Business impacts on such a change\n\n\nPanelists for the January 29 RCMP dialogue are: \n\n\n\n	Fraser MacRae\, former Assistant Commissioner of the Surrey RCMP\n	Kash Heed\, former MLA and Chief Constable of West Vancouver P.D.\n	Bob Rolls\, former Deputy Chief Constable of Vancouver Police Department\n	Mike Larsen\, Kwantlen Polytechnic University Criminology Department Chair\n\n\n\nEvent payment is due upon registration. Cancellations for event attendance\, sponsorship\, or exhibitor space will not be refunded. An event registration is considered a commitment to pay. While event registration is non-refundable\, cancellations before three full business days of the event may be eligible for a credit towards a future event. Some exclusions apply.
X-ALT-DESC;FMTTYPE=text/html:<font color="#000000" face="arial\, helvetica\, sans-serif">Surrey is looking at transitioning to a municipal police force from the current RCMP. What would have better outcomes regarding public safety?</font><br />\n<br />\n<strong><font color="#000000" face="arial\, helvetica\, sans-serif">Participate in the Surrey Hot Topic Dialogue to learn more about:</font></strong>\n<ul>\n	<li><font color="#000000" face="arial\, helvetica\, sans-serif">What would have better outcomes regarding public safety</font></li>\n	<li><font color="#000000" face="arial\, helvetica\, sans-serif">The costs and benefits of a municipal police force</font></li>\n	<li><font color="#000000" face="arial\, helvetica\, sans-serif">The costs and benefits of keeping the RCMP</font></li>\n	<li><font color="#000000" face="arial\, helvetica\, sans-serif">Business impacts on such a change</font></li>\n</ul>\n\n<div><strong>Panelists for the January 29 RCMP dialogue are:&nbsp\;</strong></div>\n\n<div>\n<ul>\n	<li>Fraser MacRae\, former Assistant Commissioner of the Surrey RCMP</li>\n	<li>Kash Heed\, former MLA and Chief Constable of West Vancouver P.D.</li>\n	<li>Bob Rolls\, former Deputy Chief Constable of Vancouver Police Department</li>\n	<li>Mike Larsen\, Kwantlen Polytechnic University Criminology Department Chair</li>\n</ul>\n</div>\n\n<hr /><em><span style="color: rgb(34\, 34\, 34)\; font-family: Arial\, Helvetica\, sans-serif\; font-size: small\;">Event payment is due upon registration. Cancellations for event attendance\, sponsorship\, or exhibitor space will not be refunded. An event registration is considered a commitment to pay. While event registration is non-refundable\, cancellations before three full business days of the event may be eligible for a credit towards a future event. Some exclusions apply.</span></em>
LOCATION:Civic Hotel Autograph Collection 13475 Central Avenue\, Surrey\, BC V3T 4B8
UID:e.749.9899
SEQUENCE:3
DTSTAMP:20260421T003137Z
URL:https://business.swrbot.com/events/details/january-29-2019-rcmp-or-municipal-police-dialogue-01-29-2019-9899
END:VEVENT

END:VCALENDAR
