BEGIN:VCALENDAR
VERSION:2.0
PRODID:-//ChamberMaster//Event Calendar 2.0//EN
METHOD:PUBLISH
X-PUBLISHED-TTL:P3D
REFRESH-INTERVAL:P3D
CALSCALE:GREGORIAN
BEGIN:VEVENT
DTSTART:20200131T153000Z
DTEND:20200131T173000Z
X-MICROSOFT-CDO-ALLDAYEVENT:FALSE
SUMMARY:January 31\, 2020 - Surrey Entrepreneur Showcase: The Entrepreneurial Journey
DESCRIPTION:Join the Surrey Board of Trade and Startup Surrey for insightful conversations with Surrey entrepreneurs and industry experts at the Surrey Entrepreneur Morning Showcase\, a series of events featuring Surrey business leaders in different industries and business sizes.\n\n\n\nSurrey has a vibrant entrepreneurship community. Let's learn from them.\n\n\n\nPanelists:\n\n1. Sara Forte - Founder and Owner\, Forte Law\n\nIndustry: Employment and Labour Law\n\n2. Dr. Ryan D'Arcy - Co-Founder\, President\, and Chief Scientific Officer\, HealthTech Connex\n\nIndustry: Health and Technology\n\n3. Charan Sethi - President and Chief Visionary Officer\, Tien Sher Group of Companies\n\nIndustry: Development and Construction\n\n\n\nFor sponsorship opportunities\, contact Rhona Doria at rhona@businessinsurrey.com.
X-ALT-DESC;FMTTYPE=text/html:<div>\n<p class="m_-9116946444324766301gmail-p1" style="color:rgb(51\,51\,51)\;font-family:sans-serif\,Arial\,Verdana\," trebuchet=""><span style="font-size:14px"><span style="font-family:arial">Join the Surrey Board of Trade and Startup Surrey for insightful conversations with Surrey entrepreneurs and industry experts at the&nbsp\;<b>Surrey Entrepreneur Morning Showcase\,&nbsp\;</b>a series of events featuring Surrey business leaders in different industries and business sizes.<br />\n<br />\nSurrey has a vibrant entrepreneurship community. Let&#39\;s learn from them.<br />\n<br />\n<b>Panelists:</b></span></span><br />\n1.<strong> Sara Forte</strong> - Founder and Owner\, Forte Law<br />\nIndustry: Employment and Labour Law<br />\n2. <b>Dr. Ryan D&#39\;Arcy - </b>Co-Founder\, President\, and Chief Scientific Officer\, HealthTech Connex<br />\nIndustry: Health and Technology<br />\n3. <b>Charan Sethi </b>- President and Chief Visionary Officer\, Tien Sher Group of Companies<br />\nIndustry: Development and Construction<br />\n<br />\nFor sponsorship opportunities\, contact Rhona Doria at <a href="mailto:rhona@businessinsurrey.com" target="_blank">rhona@businessinsurrey.com</a>.</p>\n</div>\n
LOCATION:Civic Hotel (13475 Central Avenue\, Surrey)
UID:e.749.10672
SEQUENCE:3
DTSTAMP:20260420T083720Z
URL:https://business.swrbot.com/events/details/january-31-2020-surrey-entrepreneur-showcase-the-entrepreneurial-journey-01-31-2020-10672
END:VEVENT

END:VCALENDAR
