BEGIN:VCALENDAR
VERSION:2.0
PRODID:-//ChamberMaster//Event Calendar 2.0//EN
METHOD:PUBLISH
X-PUBLISHED-TTL:P3D
REFRESH-INTERVAL:P3D
CALSCALE:GREGORIAN
BEGIN:VEVENT
DTSTART;VALUE=DATE:20140508
DTEND;VALUE=DATE:20140509
TRANSP:TRANSPARENT
X-MICROSOFT-CDO-ALLDAYEVENT:TRUE
SUMMARY:Job Fair
DESCRIPTION:JOB FAIR\n\nPLEASE APPLY IN PERSON\n\n \n\nPositions:\n\nCentre Directors & Personal Health Coaches  (for our Lower Mainland locations)\n\n \n\nJoin a team that cares and "Makes a Difference in People's Lives". We are looking for career minded individuals to join our Vancouver Area Teams! \n\n\n\nWe Offer: \n\n          A highly rewarding career with personal and professional satisfaction\n\n          Attractive work schedule (no evenings or weekends) \n\n          Career advancement opportunities \n\n          Training Program to become a Herbal Magic Centre Director or Personal Health Coach \n\n          Collaborative\, team focused environment\n\n          Competitive pay scale with commission + bonus \n\n          Product & service discount\n\nVisit our website to find out more:  http://herbalmagic.ca/careers.php
X-ALT-DESC;FMTTYPE=text/html:<p align="center" class="MsoNormal" style="mso-margin-top-alt:auto\;margin-bottom:\n4.8pt\;text-align:center\;mso-line-height-alt:13.2pt\;mso-outline-level:3"><b><span mso-fareast-font-family:="" new="" style="font-size:72.0pt\;font-family:" times="">JOB FAIR</span></b></p>\n\n<p align="center" class="MsoNormal" style="mso-margin-top-alt:auto\;margin-bottom:\n4.8pt\;text-align:center\;mso-line-height-alt:13.2pt\;mso-outline-level:3"><b><span mso-bidi-font-family:="" new="" style="font-size:22.0pt\;mso-fareast-font-family:" times="">PLEASE APPLY IN PERSON</span></b></p>\n\n<p class="MsoNormal" style="margin-bottom:0in\;margin-bottom:.0001pt\;line-height:\nnormal">&nbsp\;</p>\n\n<p class="MsoNormal" style="margin-bottom:0in\;margin-bottom:.0001pt\;line-height:\nnormal"><b><span new="" style="font-size:20.0pt\;font-family:" times="">Positions:<br />\nCentre Directors &amp\; Personal Health&nbsp\;</span></b><b><span new="" style="font-size:20.0pt\;font-family:" times="">Coaches&nbsp\; (</span></b><b><span new="" style="font-size:16.0pt\;\nfont-family:" times="">for our Lower Mainland locations)</span></b></p>\n\n<p class="MsoNormal" style="margin-bottom:0in\;margin-bottom:.0001pt\;line-height:\nnormal">&nbsp\;</p>\n\n<p class="MsoNormal" style="margin-bottom:0in\;margin-bottom:.0001pt\;line-height:\nnormal"><span new="" style="font-size:14.0pt\;font-family:" times="">Join a team that cares and &ldquo\;Makes a Difference in People&rsquo\;s Lives&rdquo\;. We are looking for career minded individuals to join our Vancouver Area Teams! </span><br />\n<br />\n<span new="" style="font-size:20.0pt\;font-family:" times=""><b>We Offer:</b> </span></p>\n\n<p class="MsoNormal" style="mso-margin-top-alt:auto\;mso-margin-bottom-alt:auto\;\nmargin-left:60.0pt\;text-indent:-.25in\;mso-line-height-alt:10.8pt\;mso-list:l0 level1 lfo1\;\ntab-stops:list .5in"><span style="font-size:10.0pt\;\nmso-bidi-font-size:14.0pt\;font-family:Symbol\;mso-fareast-font-family:Symbol\;\nmso-bidi-font-family:Symbol">&middot\;<span style="font-size: 7pt\; line-height: normal\; font-family: 'Times New Roman'\;">&nbsp\;&nbsp\;&nbsp\;&nbsp\;&nbsp\;&nbsp\;&nbsp\;&nbsp\; </span></span><span new="" style="font-size:14.0pt\;font-family:" times="">A highly rewarding career with personal and professional satisfaction</span></p>\n\n<p class="MsoNormal" style="mso-margin-top-alt:auto\;mso-margin-bottom-alt:auto\;\nmargin-left:60.0pt\;text-indent:-.25in\;mso-line-height-alt:10.8pt\;mso-list:l0 level1 lfo1\;\ntab-stops:list .5in"><span style="font-size:10.0pt\;\nmso-bidi-font-size:14.0pt\;font-family:Symbol\;mso-fareast-font-family:Symbol\;\nmso-bidi-font-family:Symbol">&middot\;<span style="font-size: 7pt\; line-height: normal\; font-family: 'Times New Roman'\;">&nbsp\;&nbsp\;&nbsp\;&nbsp\;&nbsp\;&nbsp\;&nbsp\;&nbsp\; </span></span><span new="" style="font-size:14.0pt\;font-family:" times="">Attractive work schedule (no evenings or weekends) </span></p>\n\n<p class="MsoNormal" style="mso-margin-top-alt:auto\;mso-margin-bottom-alt:auto\;\nmargin-left:60.0pt\;text-indent:-.25in\;mso-line-height-alt:10.8pt\;mso-list:l0 level1 lfo1\;\ntab-stops:list .5in"><span style="font-size:10.0pt\;\nmso-bidi-font-size:14.0pt\;font-family:Symbol\;mso-fareast-font-family:Symbol\;\nmso-bidi-font-family:Symbol">&middot\;<span style="font-size: 7pt\; line-height: normal\; font-family: 'Times New Roman'\;">&nbsp\;&nbsp\;&nbsp\;&nbsp\;&nbsp\;&nbsp\;&nbsp\;&nbsp\; </span></span><span new="" style="font-size:14.0pt\;font-family:" times="">Career advancement opportunities </span></p>\n\n<p class="MsoNormal" style="mso-margin-top-alt:auto\;mso-margin-bottom-alt:auto\;\nmargin-left:60.0pt\;text-indent:-.25in\;mso-line-height-alt:10.8pt\;mso-list:l0 level1 lfo1\;\ntab-stops:list .5in"><span style="font-size:10.0pt\;\nmso-bidi-font-size:14.0pt\;font-family:Symbol\;mso-fareast-font-family:Symbol\;\nmso-bidi-font-family:Symbol">&middot\;<span style="font-size: 7pt\; line-height: normal\; font-family: 'Times New Roman'\;">&nbsp\;&nbsp\;&nbsp\;&nbsp\;&nbsp\;&nbsp\;&nbsp\;&nbsp\; </span></span><span new="" style="font-size:14.0pt\;font-family:" times="">Training Program to become a Herbal Magic Centre Director or Personal Health Coach </span></p>\n\n<p class="MsoNormal" style="mso-margin-top-alt:auto\;mso-margin-bottom-alt:auto\;\nmargin-left:60.0pt\;text-indent:-.25in\;mso-line-height-alt:10.8pt\;mso-list:l0 level1 lfo1\;\ntab-stops:list .5in"><span style="font-size:10.0pt\;\nmso-bidi-font-size:14.0pt\;font-family:Symbol\;mso-fareast-font-family:Symbol\;\nmso-bidi-font-family:Symbol">&middot\;<span style="font-size: 7pt\; line-height: normal\; font-family: 'Times New Roman'\;">&nbsp\;&nbsp\;&nbsp\;&nbsp\;&nbsp\;&nbsp\;&nbsp\;&nbsp\; </span></span><span new="" style="font-size:14.0pt\;font-family:" times="">Collaborative\, team focused environment</span></p>\n\n<p class="MsoNormal" style="mso-margin-top-alt:auto\;mso-margin-bottom-alt:auto\;\nmargin-left:60.0pt\;text-indent:-.25in\;mso-line-height-alt:10.8pt\;mso-list:l0 level1 lfo1\;\ntab-stops:list .5in"><span style="font-size:10.0pt\;\nmso-bidi-font-size:14.0pt\;font-family:Symbol\;mso-fareast-font-family:Symbol\;\nmso-bidi-font-family:Symbol">&middot\;<span style="font-size: 7pt\; line-height: normal\; font-family: 'Times New Roman'\;">&nbsp\;&nbsp\;&nbsp\;&nbsp\;&nbsp\;&nbsp\;&nbsp\;&nbsp\; </span></span><span new="" style="font-size:14.0pt\;font-family:" times="">Competitive pay scale with commission + bonus </span></p>\n\n<p class="MsoNormal" style="mso-margin-top-alt:auto\;mso-margin-bottom-alt:auto\;\nmargin-left:60.0pt\;text-indent:-.25in\;mso-line-height-alt:10.8pt\;mso-list:l0 level1 lfo1\;\ntab-stops:list .5in"><span style="font-size:10.0pt\;\nmso-bidi-font-size:14.0pt\;font-family:Symbol\;mso-fareast-font-family:Symbol\;\nmso-bidi-font-family:Symbol">&middot\;<span style="font-size: 7pt\; line-height: normal\; font-family: 'Times New Roman'\;">&nbsp\;&nbsp\;&nbsp\;&nbsp\;&nbsp\;&nbsp\;&nbsp\;&nbsp\; </span></span><span new="" style="font-size:14.0pt\;font-family:" times="">Product &amp\; service discount</span></p>\n\n<p class="MsoNormal"><span new="" style="font-size:14.0pt\;font-family:" times="">Visit our website to find out more:&nbsp\; <a href="http://herbalmagic.ca/careers.php">http://herbalmagic.ca/careers.php</a></span></p>\n
LOCATION:Herbal Magic 4277 Kingsway\, Unit M1\, Burnaby\, BC
UID:e.749.2648
SEQUENCE:3
DTSTAMP:20260425T213309Z
URL:https://business.swrbot.com/events/details/job-fair-05-08-2014-2648
END:VEVENT

END:VCALENDAR
