BEGIN:VCALENDAR
VERSION:2.0
PRODID:-//ChamberMaster//Event Calendar 2.0//EN
METHOD:PUBLISH
X-PUBLISHED-TTL:P3D
REFRESH-INTERVAL:P3D
CALSCALE:GREGORIAN
BEGIN:VEVENT
DTSTART:20180722T150000Z
DTEND:20180722T180000Z
X-MICROSOFT-CDO-ALLDAYEVENT:FALSE
SUMMARY:Jog for the Bog
DESCRIPTION:Jog through the Delta Nature Reserve this summer to get your run in & to help protect one of earth's natural ecosystems. Join us for our annual Jog for the Bog event on International Bog Day. This annual event celebrates the beauty of bogs and help spread awareness of peatlands\, their importance to all species & ecosystems\, and the threats they face. There will be live entertainment\, hot pancakes\, and breathtaking views. Bring your friends & family and discover this natural wonder right in your backyard!
X-ALT-DESC;FMTTYPE=text/html:Jog through the Delta Nature Reserve this summer to get your run in &amp\; to help protect one of earth&rsquo\;s natural ecosystems. Join us for our annual Jog for the Bog event on International Bog Day. This annual event celebrates the beauty of bogs and help spread awareness of peatlands\, their importance to all species &amp\; ecosystems\, and the threats they face. There will be live entertainment\, hot pancakes\, and breathtaking views. Bring your friends &amp\; family and discover this natural wonder right in your backyard!
LOCATION:Delta Nature Reserve\, 10389 Nordel Court\, Delta B.C.
UID:e.749.9349
SEQUENCE:3
DTSTAMP:20260421T081810Z
URL:https://business.swrbot.com/events/details/jog-for-the-bog-07-22-2018-9349
END:VEVENT

END:VCALENDAR
