BEGIN:VCALENDAR
VERSION:2.0
PRODID:-//ChamberMaster//Event Calendar 2.0//EN
METHOD:PUBLISH
X-PUBLISHED-TTL:P3D
REFRESH-INTERVAL:P3D
CALSCALE:GREGORIAN
BEGIN:VEVENT
DTSTART:20170723T150000Z
DTEND:20170723T200000Z
X-MICROSOFT-CDO-ALLDAYEVENT:FALSE
SUMMARY:Jog for the Bog
DESCRIPTION:Come for the Run and Stay for the fun! Jog through the Bog in the morning. Enjoy a pancake breakfast! Then stay for music\, dancing and booths! Registration opens at 8:00am. Jog and festivities start at 9:30am. All-ages
X-ALT-DESC;FMTTYPE=text/html:Come for the Run and Stay for the fun! Jog through the Bog in the morning. Enjoy a pancake breakfast! Then stay for music\, dancing and booths! Registration opens at 8:00am. Jog and festivities start at 9:30am. All-ages
LOCATION:10388 Nordel Court\, Delta\, BC\, V4G 1J9
UID:e.749.5238
SEQUENCE:3
DTSTAMP:20260421T230110Z
URL:https://business.swrbot.com/events/details/jog-for-the-bog-07-23-2017-5238
END:VEVENT

END:VCALENDAR
