BEGIN:VCALENDAR
VERSION:2.0
PRODID:-//ChamberMaster//Event Calendar 2.0//EN
METHOD:PUBLISH
X-PUBLISHED-TTL:P3D
REFRESH-INTERVAL:P3D
CALSCALE:GREGORIAN
BEGIN:VEVENT
DTSTART:20160724T153000Z
DTEND:20160724T200000Z
X-MICROSOFT-CDO-ALLDAYEVENT:FALSE
SUMMARY:Jog for the Bog
DESCRIPTION:Come for the run & stay for the fun! Jog through the Delta Nature Reserve this summer to get your run in & to help protect one of earth?s natural ecosystems. Join us for our annual Jog for the Bog event on International Bog Day. This annual event celebrates the beauty of bogs and helps spread awareness of peatlands\, their importance to all species & ecosystems\, and the threats they face. There will be live entertainment\, hot pancakes\, and breathtaking views. Bring your friends & family and discover this natural wonder right in your backyard!
X-ALT-DESC;FMTTYPE=text/html:Come for the run &amp\; stay for the fun! Jog through the Delta Nature Reserve this summer to get your run in &amp\; to help protect one of earth?s natural ecosystems. Join us for our annual Jog for the Bog event on International Bog Day. This annual event celebrates the beauty of bogs and helps spread awareness of peatlands\, their importance to all species &amp\; ecosystems\, and the threats they face. There will be live entertainment\, hot pancakes\, and breathtaking views. Bring your friends &amp\; family and discover this natural wonder right in your backyard!
LOCATION:Delta Nature Reserve 10388 Nordel Court\, Delta\, BC V4G 1J7
UID:e.749.4896
SEQUENCE:3
DTSTAMP:20260424T083814Z
URL:https://business.swrbot.com/events/details/jog-for-the-bog-07-24-2016-4896
END:VEVENT

END:VCALENDAR
