BEGIN:VCALENDAR
VERSION:2.0
PRODID:-//ChamberMaster//Event Calendar 2.0//EN
METHOD:PUBLISH
X-PUBLISHED-TTL:P3D
REFRESH-INTERVAL:P3D
CALSCALE:GREGORIAN
BEGIN:VEVENT
DTSTART:20190721T150000Z
DTEND:20190721T180000Z
X-MICROSOFT-CDO-ALLDAYEVENT:FALSE
SUMMARY:Jog for the Bog 2019
DESCRIPTION:Jog for the Bog is an annual chip-timed 5k and 10k marathon that is held in Delta on International Bog Day (July 21st)\, starting at the Planet Ice and running along the perimeter of the Delta Nature Reserve. Hosted by Burns Bog Conservation Society\, this event has been a success for 10+ years and continues to invite athletes\, outdoor enthusiasts\, families\, and friends to participate in our runs/walks/jogs. The event will help fundraise for our education programs\, support ongoing science and research that is being done to protect the bog\, and also to prevent any future development\, disruption\, and loss of this globally unique ecosystem.
X-ALT-DESC;FMTTYPE=text/html:Jog for the Bog is an annual chip-timed 5k and 10k marathon that is held in Delta on International Bog Day (July 21st)\, starting at the Planet Ice and running along the perimeter of the Delta Nature Reserve. Hosted by Burns Bog Conservation Society\, this event has been a success for 10+ years and continues to invite athletes\, outdoor enthusiasts\, families\, and friends to participate in our runs/walks/jogs. The event will help fundraise for our education programs\, support ongoing science and research that is being done to protect the bog\, and also to prevent any future development\, disruption\, and loss of this globally unique ecosystem.
LOCATION:Delta Nature Reserve 10389 Nordel Court\, Delta
UID:e.749.10514
SEQUENCE:3
DTSTAMP:20260420T162216Z
URL:https://business.swrbot.com/events/details/jog-for-the-bog-2019-07-21-2019-10514
END:VEVENT

END:VCALENDAR
