BEGIN:VCALENDAR
VERSION:2.0
PRODID:-//ChamberMaster//Event Calendar 2.0//EN
METHOD:PUBLISH
X-PUBLISHED-TTL:P3D
REFRESH-INTERVAL:P3D
CALSCALE:GREGORIAN
BEGIN:VEVENT
DTSTART:20140727T140000Z
DTEND:20140727T200000Z
X-MICROSOFT-CDO-ALLDAYEVENT:FALSE
SUMMARY:Jog for the Bog and International Bog Day
DESCRIPTION:Like running\, breakfast and entertainment? Want to save the Earth? Come for the Run\, Stay for the Fun! Jog for the Bog is your day to get fit and help save peatlands at the same time! \n\n \n\nYou\, your family\, and friends get to go on a scenic 5K walk/run or a 10K run around the Delta Nature Reserve. Afterwards\, you can enjoy International Bog Day celebrations with entertainment and pancakes! \n\n \n\nPrices for this fundraiser are $45 for a 5K walk/run and $50 for a 10K run. Cost of run includes your pancake breakfast! So take your friends and family to Jog for the Bog this summer and discover the ecological importance of peatlands and Burns Bog.\n\n \n\nFor more information please visit www.jogforthebog.org or call in at 604-572-0373.
X-ALT-DESC;FMTTYPE=text/html:<p class="MsoNormalCxSpFirst" style="margin: 1em 0px 0pt\; line-height: normal\; mso-add-space: auto\;"><font face="Times New Roman"><span lang="EN-GB" style="font-size: 14pt\; mso-ansi-language: EN-GB\;"><font color="#000000">Like running\, breakfast and entertainment? Want to save the Earth? </font></span><b style="mso-bidi-font-weight: normal\;"><span lang="EN-CA" style="font-size: 14pt\;"><font color="#000000">Come for the Run\, Stay for the Fun!</font></span></b><span lang="EN-CA" style="font-size: 14pt\;"><font color="#000000"> </font></span><span lang="EN-GB" style="font-size: 14pt\; mso-ansi-language: EN-GB\;"><font color="#000000">Jog for the Bog is your day to get fit and help save peatlands at the same time! <o:p></o:p></font></span></font></p>\n\n<p class="MsoNormalCxSpMiddle" style="margin: 1em 0px 0pt\; line-height: normal\; mso-add-space: auto\;"><b style="mso-bidi-font-weight: normal\;"><span lang="EN-GB" style="font-size: 14pt\; mso-ansi-language: EN-GB\;"><o:p><font color="#000000" face="Times New Roman">&nbsp\;</font></o:p></span></b></p>\n\n<p class="MsoNormalCxSpMiddle" style="margin: 1em 0px 0pt\; line-height: normal\; mso-add-space: auto\;"><span lang="EN-GB" style="font-size: 14pt\; mso-ansi-language: EN-GB\;"><font color="#000000"><font face="Times New Roman">You\, your family\, and friends get to go on a scenic 5K walk/run or a 10K run around the Delta Nature Reserve. Afterwards\, you can enjoy International Bog Day celebrations with entertainment and pancakes! <b style="mso-bidi-font-weight: normal\;"><o:p></o:p></b></font></font></span></p>\n\n<p class="MsoNormalCxSpMiddle" style="margin: 1em 0px 0pt\; line-height: normal\; mso-add-space: auto\;"><span lang="EN-GB" style="font-size: 14pt\; mso-ansi-language: EN-GB\;"><o:p><font color="#000000" face="Times New Roman">&nbsp\;</font></o:p></span></p>\n\n<p class="MsoNormalCxSpMiddle" style="margin: 1em 0px 0pt\; line-height: normal\; mso-add-space: auto\;"><span lang="EN-GB" style="font-size: 14pt\; mso-ansi-language: EN-GB\;"><font color="#000000"><font face="Times New Roman">Prices for this fundraiser are $45 for a 5K walk/run and $50 for a 10K run. Cost of run includes your pancake breakfast! So take your friends and family to Jog for the Bog this summer and discover the ecological importance of peatlands and Burns Bog.<o:p></o:p></font></font></span></p>\n\n<p class="MsoNormalCxSpMiddle" style="margin: 1em 0px 0pt\; line-height: normal\; mso-add-space: auto\;"><span lang="EN-CA" style="font-size: 14pt\;"><o:p><font color="#000000" face="Times New Roman">&nbsp\;</font></o:p></span></p>\n\n<p class="MsoNormalCxSpMiddle" style="margin: 1em 0px 0pt\; line-height: normal\; mso-add-space: auto\;"><font face="Times New Roman"><span lang="EN-GB" style="font-size: 14pt\; mso-ansi-language: EN-GB\;"><font color="#000000">For more information please visit </font></span><span lang="EN-CA"><a href="http://www.jogforthebog.org/"><span lang="EN-GB" style="font-size: 14pt\; mso-ansi-language: EN-GB\;"><font color="#0563c1">www.jogforthebog.org</font></span></a></span><span lang="EN-GB" style="font-size: 14pt\; mso-ansi-language: EN-GB\;"><font color="#000000"> or call in at 604-572-0373. <o:p></o:p></font></span></font></p>\n
LOCATION:10388 Nordel Court
UID:e.749.2693
SEQUENCE:3
DTSTAMP:20260425T201539Z
URL:https://business.swrbot.com/events/details/jog-for-the-bog-and-international-bog-day-07-27-2014-2693
END:VEVENT

END:VCALENDAR
