BEGIN:VCALENDAR
VERSION:2.0
PRODID:-//ChamberMaster//Event Calendar 2.0//EN
METHOD:PUBLISH
X-PUBLISHED-TTL:P3D
REFRESH-INTERVAL:P3D
CALSCALE:GREGORIAN
BEGIN:VEVENT
DTSTART:20140727T140000Z
DTEND:20140727T200000Z
X-MICROSOFT-CDO-ALLDAYEVENT:FALSE
SUMMARY:Jog for the Bog & International Bog Day
DESCRIPTION:Come for the Run and Stay for the fun! Jog through the Bog in the morning. Then stay for a pancake breakfast\, music dancing and booths!  Registration opens at 7:00am. Jog and festivities start at 8:30am.
X-ALT-DESC;FMTTYPE=text/html:Come for the Run and Stay for the fun! Jog through the Bog in the morning. Then stay for a pancake breakfast\, music dancing and booths!&nbsp\; Registration opens at 7:00am. Jog and festivities start at 8:30am.
LOCATION:Parking lot of Planet Ice 10388 Nordel Court\, Delta\, BC V4G 1J9
UID:e.749.2554
SEQUENCE:3
DTSTAMP:20260425T190818Z
URL:https://business.swrbot.com/events/details/jog-for-the-bog-international-bog-day-07-27-2014-2554
END:VEVENT

END:VCALENDAR
