BEGIN:VCALENDAR
VERSION:2.0
PRODID:-//ChamberMaster//Event Calendar 2.0//EN
METHOD:PUBLISH
X-PUBLISHED-TTL:P3D
REFRESH-INTERVAL:P3D
CALSCALE:GREGORIAN
BEGIN:VEVENT
DTSTART:20140727T140000Z
DTEND:20140727T200000Z
X-MICROSOFT-CDO-ALLDAYEVENT:FALSE
SUMMARY:Jog for the Bog: Trail Run
DESCRIPTION:Like running\, breakfast and entertainment? Want to save the Earth? Come for the Run\, Stay for the Fun! Jog for the Bog is your day to get fit and help save peatlands at the same time!  You\, your family\, and friends get to go on a scenic 5K walk/run or a 10K run around the Delta Nature Reserve. Afterwards\, you can enjoy International Bog Day celebrations with entertainment and pancakes!  Prices for this fundraiser are $45 for a 5K walk/run and $50 for a 10K run. All proceeds go towards our efforts to protect the bog. Cost of run includes your pancake breakfast! So take your friends and family to Jog for the Bog this summer and discover the ecological importance of Burns Bog. For more information please visit www.jogforthebog.org or call in at 604-572-0373.
X-ALT-DESC;FMTTYPE=text/html:Like running\, breakfast and entertainment? Want to save the Earth? Come for the Run\, Stay for the Fun! Jog for the Bog is your day to get fit and help save peatlands at the same time!&nbsp\; You\, your family\, and friends get to go on a scenic 5K walk/run or a 10K run around the Delta Nature Reserve. Afterwards\, you can enjoy International Bog Day celebrations with entertainment and pancakes!&nbsp\; Prices for this fundraiser are $45 for a 5K walk/run and $50 for a 10K run. All proceeds go towards our efforts to protect the bog. Cost of run includes your pancake breakfast! So take your friends and family to Jog for the Bog this summer and discover the ecological importance of Burns Bog. For more information please visit www.jogforthebog.org or call in at 604-572-0373.&nbsp\;
LOCATION:10388 Nordel Court\, Delta\, BC In the Delta Nature Reserve
UID:e.749.2699
SEQUENCE:3
DTSTAMP:20260425T190754Z
URL:https://business.swrbot.com/events/details/jog-for-the-bog-trail-run-07-27-2014-2699
END:VEVENT

END:VCALENDAR
