BEGIN:VCALENDAR
VERSION:2.0
PRODID:-//ChamberMaster//Event Calendar 2.0//EN
METHOD:PUBLISH
X-PUBLISHED-TTL:P3D
REFRESH-INTERVAL:P3D
CALSCALE:GREGORIAN
BEGIN:VEVENT
DTSTART:20181110T023000Z
DTEND:20181110T060000Z
X-MICROSOFT-CDO-ALLDAYEVENT:FALSE
SUMMARY:Join Diabetes Canada: In Partnership With Cities Changing Diabetes
DESCRIPTION:Join Diabetes Canada\, in partnership with Cities Changing Diabetes\, for an evening of education\, entertainment\, and a chance for people to make valuable community connections. Guests will enjoy a unique educational and culinary experience as dietitians work alongside the chef to put a healthy spin on a traditional South Asian banquet while learning how small changes can have a positive impact on your health!\n\n\n\nInterested in hosting a Community Leader Table? Contact Kirstie McRae for further details.
X-ALT-DESC;FMTTYPE=text/html:Join Diabetes Canada\, in partnership with Cities Changing Diabetes\, for an evening of education\, entertainment\, and a chance for people to make valuable community connections. Guests will enjoy a unique educational and culinary experience as dietitians work alongside the chef to put a healthy spin on a traditional South Asian banquet while learning how small changes can have a positive impact on your health!<br />\n<br />\nInterested in hosting a <b>Community Leader Table</b>? Contact Kirstie McRae for further details.
LOCATION:The Royal King Palace and Convention Centre (8158 128 Street\, Surrey\, BC V3W 1R1)
UID:e.749.9819
SEQUENCE:3
DTSTAMP:20260421T030521Z
URL:https://business.swrbot.com/events/details/join-diabetes-canada-in-partnership-with-cities-changing-diabetes-11-09-2018-9819
END:VEVENT

END:VCALENDAR
