BEGIN:VCALENDAR
VERSION:2.0
PRODID:-//ChamberMaster//Event Calendar 2.0//EN
METHOD:PUBLISH
X-PUBLISHED-TTL:P3D
REFRESH-INTERVAL:P3D
CALSCALE:GREGORIAN
BEGIN:VEVENT
DTSTART:20120711T010000Z
DTEND:20120711T030000Z
X-MICROSOFT-CDO-ALLDAYEVENT:FALSE
SUMMARY:July 10\, '12 - Business Cocktail Connection
DESCRIPTION:
X-ALT-DESC;FMTTYPE=text/html:
LOCATION:Guildford Golf Course 7929 152 Street\, Surrey
UID:e.749.2069
SEQUENCE:3
DTSTAMP:20260421T042916Z
URL:https://business.swrbot.com/events/details/july-10-12-business-cocktail-connection-07-10-2012-2069
END:VEVENT

END:VCALENDAR
