BEGIN:VCALENDAR
VERSION:2.0
PRODID:-//ChamberMaster//Event Calendar 2.0//EN
METHOD:PUBLISH
X-PUBLISHED-TTL:P3D
REFRESH-INTERVAL:P3D
CALSCALE:GREGORIAN
BEGIN:VEVENT
DTSTART:20150711T000000Z
DTEND:20150711T040000Z
X-MICROSOFT-CDO-ALLDAYEVENT:FALSE
SUMMARY:July 10\, 2015 - Networking in the Lions Den
DESCRIPTION:The Surrey Board of Trade and Burnaby Board of Trade Invite you to the first ever:\n\nNetworking In the Lions Den\n\n\n	Team up with business professionals in a unique and exciting environment\n	Cheer on your BC Lions to victory in their home opener\n	Meet BC Lions great Geroy Simon\n	Hear from the President and CEO\, Denis Skulsky and General Manager of Football Operations\, Wally Buono\n	Game Ticket and BC Lions hat included in price\n\n\nONLINE REGISTRATION IS NOW CLOSED.\n\nPlease contact David Miao at 604.634.0348 or david@businessinsurrey.com to purchase additional tickets.
X-ALT-DESC;FMTTYPE=text/html:<div style="text-align: center\;"><strong><span style="font-size:16px\;">The Surrey Board of Trade and Burnaby Board of Trade Invite you to the first ever:</span></strong></div>\n\n<div style="text-align: center\;"><span style="font-size:22px\;"><strong><span style="color: rgb(255\, 140\, 0)\;">Networking In the Lions Den</span></strong></span></div>\n\n<ul>\n	<li>Team up with business professionals in a unique and exciting environment</li>\n	<li>Cheer on your BC Lions to victory in their home opener</li>\n	<li>Meet BC Lions great Geroy Simon</li>\n	<li>Hear from the President and CEO\, Denis Skulsky and General Manager of Football Operations\, Wally Buono</li>\n	<li>Game Ticket and BC Lions hat included in price</li>\n</ul>\n\n<div style="text-align: center\;"><strong><span style="color:#FF0000\;">ONLINE REGISTRATION IS NOW CLOSED.</span><br />\nPlease contact David Miao at 604.634.0348 or david@businessinsurrey.com to purchase additional tickets.</strong></div>\n
LOCATION:BC Place Stadium
UID:e.749.3593
SEQUENCE:3
DTSTAMP:20260423T161825Z
URL:https://business.swrbot.com/events/details/july-10-2015-networking-in-the-lions-den-07-10-2015-3593
END:VEVENT

END:VCALENDAR
